Workbook
Name ｍ: #REF!
Name ｍ: #REF!
Name \I: #REF!
Name \I: #REF!
Name \A: #REF!
Name \A: #REF!
Name \Q: #REF!
Name \Q: #REF!
Name _1号様式印刷: #REF!
Name _1号様式印刷: #REF!
Name _2号様式: #REF!
Name _2号様式: #REF!
Name ガラス: #REF!
Name ガラス: #REF!
Name \0: #REF!
Name \0: #REF!
Name でんｋ: #REF!
Name でんｋ: #REF!
Name \C: #REF!
Name \C: #REF!
Name タイル: #REF!
Name タイル: #REF!
Name 渡り10: #REF!
Name 渡り10: #REF!
Name \D: #REF!
Name \D: #REF!
Name F様式2列幅: #REF!
Name F様式2列幅: #REF!
Name \G: #REF!
Name \G: #REF!
Name \J: #REF!
Name \J: #REF!
Name o: #REF!
Name o: #REF!
Name \K: #REF!
Name \K: #REF!
Name \M: #REF!
Name \M: #REF!
Name PRINT_AREA_MI: #REF!
Name PRINT_AREA_MI: #REF!
Name 機械形: #REF!
Name 機械形: #REF!
Name J: #REF!
Name J: #REF!
Name \N: #REF!
Name \N: #REF!
Name 冷計: #REF!
Name 冷計: #REF!
Name k: #REF!
Name k: #REF!
Name \O: #REF!
Name \O: #REF!
Name コン柱: #REF!
Name コン柱: #REF!
Name \P: #REF!
Name \P: #REF!
Name A内訳書列幅: #REF!
Name A内訳書列幅: #REF!
Name \R: #REF!
Name \R: #REF!

Sheet 表紙・工事概要
B4: （金抜）
G14: （農第08056号）
G17: 山北交流広場公衆トイレ新築工事 | Q17: 設計書
N18: 実施
H19: 香南市香我美町山北
C24: 施行方法
D25: （請 負） | E25: 直 営
C26: 工事日数
D27: 90 | E27: 日
C28: 工事期限
D29: 令和 年 月 日
C31: 令和 8年 3月 31日 作成
C33: 令和 年 月 日 決裁
B39: 工 事 概 要
C41: 延床面積： | G41: 6.19 | H41: ㎡
C42: ユニット式トイレ | G42: 1棟
C43: 浄化槽 | G43: 1箇所
C44: 接続用配管・配線 | G44: 1式 | X44: =102.4/33.5 -> 3.0567164
C45: 外構工事 | G45: 1式
B61: 起工（又は変更）理由
C63: 移設に伴う新築工事
F67: 円
B68: 予 算 額
F69: 円
B70: 事 業 費 | I70: 消費税相当額抜きの請負対象額
C71: 請 負 | F71: 円
C72: 対象金額 | L72: 円
B73: 内 訳 | F73: 円
C74: そ の 他

Sheet Sheet2 (2)
A1: 工 事 内 訳 書
A2: 工 事 名 称 | C2: 山北交流広場公衆トイレ新築工事
A4: 設 計 金 額 一金
K5: 円
A7: 記号 | B7: 名 称 | C7: 摘 要 | G7: 数 量 | H7: 単位 | I7: 単 価 | J7: 金 額 | K7: 備 考
A9: Ａ | B9: 直接工事費 | G9: 1 | H9: 式
A15: B | B15: 共通費
B17: 共通仮設費 | G17: 1 | H17: 式
B19: 現場管理費 | G19: 1 | H19: 式
B21: 一般管理費等 | G21: 1 | H21: 式
B23: 合計
B27: 総合計
B31: 消費税 | C31: 0.1
B37: 合計
D40: ｘ | E40: 0

Sheet 実施内訳書
B2: 名 称 | C2: 摘 要 | D2: 数 量 | E2: 単位 | F2: 単 価 | G2: 金 額 | H2: 備 考
A4: A | B4: 直接工事費
A6: 1 | B6: =直接仮設!B4 -> 直接仮設 | D6: 1 | E6: 式
A8: 2 | B8: =土工事!B4 -> 土工 | D8: 1 | E8: 式
A10: 3 | B10: =地業!B4 -> 地業 | D10: 1 | E10: 式
A12: 4 | B12: =鉄筋!B4 -> 鉄筋 | D12: 1 | E12: 式
A14: 5 | B14: =コンクリート!B4 -> コンクリート | D14: 1 | E14: 式
A16: 6 | B16: =型枠!B4 -> 型枠 | D16: 1 | E16: =E14 -> 式
A18: 7 | B18: =本体工事!B4 -> 本体ユニット工事 | D18: 1 | E18: 式
A20: 8 | B20: 外構 | D20: 1 | E20: =E18 -> 式
A22: 9 | B22: 電気設備工事 | D22: 1 | E22: =E20 -> 式
A24: 10 | B24: 機械設備工事 | D24: 1 | E24: =E22 -> 式
B36: 小計
B38: 名 称 | C38: 摘 要 | D38: 数 量 | E38: 単位

Sheet 直接仮設
B2: 名 称 | C2: 摘 要 | D2: 数 量 | E2: 単位 | F2: 単 価 | G2: 金 額 | H2: 備 考
A4: =実施内訳書!A6 -> 1 | B4: 直接仮設
B6: 遣方 | C6: 一般 | D6: 6.2 | E6: ㎡
B8: 墨出 | D8: 6.2 | E8: ㎡
B10: 養生 | D10: 6.2 | E10: ㎡
B12: 整理清掃 | D12: 6.2 | E12: ㎡
B36: 計

Sheet 土工事
B2: 名 称 | C2: 摘 要 | D2: 数 量 | E2: 単位 | F2: 単 価 | G2: 金 額 | H2: 備 考
A4: 2 | B4: 土工
B6: 床付け | D6: 16 | E6: ㎡
B8: 根切り | D8: 10.8 | E8: ｍ3
B10: 埋戻し | D10: 6.7 | E10: ㎡
B36: 計

Sheet 地業
B2: 名 称 | C2: 摘 要 | D2: 数 量 | E2: 単位 | F2: 単 価 | G2: 金 額 | H2: 備 考
A4: 3 | B4: 地業
B6: 再生砕石地業 | C6: 基礎部分 | D6: 1.1 | E6: ｍ3
B8: 再生砕石地業 | C8: 土間部分 | D8: 0.5 | E8: ｍ3
B36: 計

Sheet 鉄筋
B2: 名 称 | C2: 摘 要 | D2: 数 量 | E2: 単位 | F2: 単 価 | G2: 金 額 | H2: 備 考
A4: 4 | B4: 鉄筋
B6: 異形棒鋼 | C6: SD295AD10 | D6: 163 | E6: kg
B8: スクラップ控除 | D8: 8 | E8: kg
B10: 鉄筋運搬費 | D10: 171 | E10: kg
B12: 鉄筋加工組立 | D12: 171 | E12: kg
B36: 計

Sheet コンクリート
B2: 名 称 | C2: 摘 要 | D2: 数 量 | E2: 単位 | F2: 単 価 | G2: 金 額 | H2: 備 考
A4: 5 | B4: コンクリート
B6: 基礎コンクリート | C6: Fc=24/mm2 S=15cm | D6: 10 | E6: ｍ3
B8: 捨てコンクリート | C8: Fc=18/mm2 S=15cm | D8: 0.5 | E8: ｍ3
B10: コンクリート温度補正 | C10: Fc=21→27(+6N)/mm2 S=15cm | D10: 10.5 | E10: ｍ3
B12: コンクリート打設手間 | D12: 10.5 | E12: ｍ3
B36: 計

Sheet 型枠
B2: 名 称 | C2: 摘 要 | D2: 数 量 | E2: 単位 | F2: 単 価 | G2: 金 額 | H2: 備 考
A4: 6 | B4: 型枠
B6: 普通合板型枠 | C6: 基礎部 | D6: 10 | E6: ㎡
B8: 型枠運搬費 | D8: 10 | E8: ㎡
B36: 計

Sheet 本体工事
B2: 名 称 | C2: 摘 要 | D2: 数 量 | E2: 単位 | F2: 単 価 | G2: 金 額 | H2: 備 考
A4: 7 | B4: 本体ユニット工事
B6: 本体工事 | D6: 1 | E6: 式
B36: 計
B38: 【本体工事】
C39: ユニット型トイレ | E39: 体
B40: 本体トイレ工事 | C40: 工場制作 現地設置まで | D40: 1
E41: 体
B42: 運搬費 | C42: 制作工場から現地まで運搬 | D42: 1
E43: 体
B44: 組立設置費 | C44: クレーンによる設置工事、上下水接続まで | D44: 1
B70: 小計

Sheet 外構
B2: 名 称 | C2: 摘 要 | D2: 数 量 | E2: 単位 | F2: 単 価 | G2: 金 額 | H2: 備 考
A4: 8 | B4: 外構
B6: アスファルト舗装 | D6: 15.9 | E6: ㎡
B10: 【コンクリート舗装】
B12: 土間・躯体コンクリート | C12: Fc=21/mm2 S=15cm | D12: 0.7 | E12: ｍ3
B14: 異形棒鋼 | C14: SD295AD10 | D14: 81 | E14: kg
B16: スクラップ控除 | D16: 4 | E16: kg
B18: 鉄筋運搬費 | D18: 81 | E18: kg
B20: 鉄筋加工組立 | D20: 81 | E20: kg
B22: 砂利地業 | C22: 土間下砕石 | D22: 0.3 | E22: ｍ3
B26: 【フェンス】
B28: メッシュフェンス | C28: A型 50シリーズ 基礎 18*18*45 | D28: 8.5 | E28: ｍ
C29: 浄化槽メンテ用
B30: フェンス開口部 | C30: A型 50シリーズ W1000 | D30: 1 | E30: か所
B36: 計

Sheet 電気
D1: 工 事 名 | F1: 山北交流広場公衆トイレ新築工事(電気設備)
A3: CODE | D3: 設 計 金 額 一 金 | F3: (直接工事費) | G3: =K23 -> 0 | H3: 円
B4: 記号 | D4: 項 目 | F4: 内 容 | H4: 数 量 | I4: 単位 | J4: 単 価 | K4: 金 額 | L4: 備 考
D5: 直接工事費 | K5: =IF(ISBLANK(H5),"",H5*J5)
B6: 9 | D6: 電気設備工事
B7: 1 | D7: =D25 -> 幹線設備工事 | H7: 1 | I7: 式
D23: 計
B25: 1 | D25: 幹線設備工事
D26: ﾋﾞﾆｰﾙ管 | F26: HIVE28 露出 | H26: 9 | I26: ｍ
D27: ｹｰﾌﾞﾙ | F27: EM-CE5.5-3C 管路 | H27: 9 | I27: ｍ
D28: 電線 | F28: IE5.5 | H28: 4 | I28: ｍ
D29: ｹｰﾌﾞﾙ | F29: PVR2.6-3C 管路 | H29: 18 | I29: ｍ
D45: 小 計
J75: =IF(#REF!=0,"",#REF!) -> #REF! | K75: =IF((#REF!)=0,"",H75*#REF!) -> #REF!
J76: =IF(#REF!=0,"",#REF!) -> #REF! | K76: =IF((#REF!)=0,"",H76*#REF!) -> #REF!
J77: =IF(#REF!=0,"",#REF!) -> #REF! | K77: =IF((#REF!)=0,"",H77*#REF!) -> #REF!
J78: =IF(#REF!=0,"",#REF!) -> #REF! | K78: =IF((#REF!)=0,"",H78*#REF!) -> #REF!

Sheet 機械
D1: 工 事 名 | F1: 山北交流広場公衆トイレ新築工事(機械設備)
A3: CODE | D3: 工 事 費 一 金 | G3: =K21 -> 0 | H3: 円
B4: 記号 | D4: 項 目 | F4: 内 容 | H4: 数 量 | I4: 単位 | J4: 単 価 | K4: 金 額 | L4: 備 考
B5: 10 | D5: 直接工事費
B6: 1 | D6: =D24 -> 給水設備 | H6: 1 | I6: 式
B7: 2 | D7: =D44 -> 排水設備 | H7: 1 | I7: 式
B8: 3 | D8: =D68 -> 合併処理浄化槽設備 | H8: 1 | I8: 式
D21: 計
B24: 1 | D24: 給水設備
D25: 散水栓 | F25: 浄化槽メンテ用 | H25: 1 | I25: 組
D26: 散水栓取付費 | H26: 1 | I26: 組
D27: 水道用耐衝撃性硬質ﾎﾟﾘ塩化ﾋﾞﾆﾙ管 | F27: HIVP 30A | G27: 地中埋設 | H27: 6.5 | I27: m
D28: 埋設標示ｼｰﾄ | F28: 150幅・2倍折込付 | H28: 6.5 | I28: m
D29: 埋設標示柱 | H29: 3 | I29: 個
D30: 根切り | F30: ﾊﾞｯｸﾎｳ0.13m3 | H30: 2 | I30: m3
D31: 保護砂 | F31: 排水以外 | H31: 0.7 | I31: m3
D32: 埋戻し | F32: ﾊﾞｯｸﾎｳ0.13m3 | H32: 1.3 | I32: m3
D42: 計
B44: 2 | D44: 排水設備
D45: 硬質ﾎﾟﾘ塩化ﾋﾞﾆﾙ管 | F45: VP 100A | G45: 地中埋設 | H45: 3.5 | I45: m
D46: ﾀﾞｲｱﾓﾝﾄﾞｺｱ | F46: φ200-100L | H46: 1 | I46: 箇所
D47: 塩化ﾋﾞﾆｰﾙ製ｲﾝﾊﾞｰﾄ桝 | F47: ～500 100A φ200 | G47: ST | H47: 1 | I47: 箇所
D48: 塩化ﾋﾞﾆｰﾙ製ｲﾝﾊﾞｰﾄ桝 | F48: ～500 100A φ200 | G48: 90L | H48: 1 | I48: 箇所
D49: 根切り | F49: ﾊﾞｯｸﾎｳ0.13m3 | H49: =10/4*0.7 -> 1.75 | I49: m3
D50: 保護砂 | F50: 排水以外 | H50: 0.8 | I50: m3
D51: 埋戻し | F51: ﾊﾞｯｸﾎｳ0.13m3 | H51: 1 | I51: m3
D66: 計
B68: 3 | D68: 合併処理浄化槽設備
D69: FRP製合併処理浄化槽 | F69: 21人槽,放流水BOD20mg/L | H69: 1 | I69: 基
D70: 送風機･ﾏﾝﾎｰﾙ
D71: 直接仮設工事 | H71: 1 | I71: 式
D72: 土留工事 | H72: 1 | I72: 式
D73: 上部コンクリ工事 | H73: 1 | I73: 式
D74: 浄化槽・機器据付工事 | H74: 1 | I74: 式
D75: 配管設備工事 | H75: 1 | I75: 式
D76: 試運転調整費 | H76: 1 | I76: 式
D77: 現場経費・諸経費 | H77: 1 | I77: 式
D87: 計
A374: end
