Workbook
Name _: [1]実験研究棟細目!#REF!
Name _: [1]実験研究棟細目!#REF!
Name _: [1]実験研究棟細目!#REF!
Name _: [1]実験研究棟細目!#REF!
Name _1号様式印刷: #REF!
Name _1号様式印刷: #REF!
Name _1号様式印刷: #REF!
Name _1号様式印刷: #REF!
Name _1号様式印刷: #REF!
Name _1号様式印刷: #REF!
Name _2号様式: #REF!
Name _2号様式: #REF!
Name _2号様式: #REF!
Name _2号様式: #REF!
Name _2号様式: #REF!
Name _2号様式: #REF!
Name _600V_CV: #REF!
Name _600V_CV: #REF!
Name _600V_CV: #REF!
Name _600V_CV: #REF!
Name _600V_CV: #REF!
Name _600V_CV: #REF!
Name \0: #REF!
Name \0: #REF!
Name \0: #REF!
Name \0: #REF!
Name \0: #REF!
Name \A: #REF!
Name \A: #REF!
Name \A: #REF!
Name \A: #REF!
Name \A: #REF!
Name \C: #REF!
Name \C: #REF!
Name \C: #REF!
Name \C: #REF!
Name \C: #REF!
Name \D: #REF!
Name \D: #REF!
Name \D: #REF!
Name \D: #REF!
Name \D: #REF!
Name \G: #REF!
Name \G: #REF!
Name \G: #REF!
Name \G: #REF!
Name \G: #REF!
Name \I: #REF!
Name \I: #REF!
Name \I: #REF!
Name \I: #REF!
Name \I: #REF!
Name \J: #REF!
Name \J: #REF!
Name \J: #REF!
Name \J: #REF!
Name \J: #REF!
Name \K: #REF!
Name \K: #REF!
Name \K: #REF!

Sheet 表紙
O2: 消防本部
B7: （金抜き）
I12: 令和 | N12: 8 | R12: 年度 | AB12: 消第 | AG12: 08028 | AO12: 号
I15: 高知県香南市 | W15: 香我美町徳王子
BS18: 実 施
E19: 旧徳王子屯所解体工事 | CG19: 設計書
BS20: 第1回変更
I28: 施行方法
P29: （請負） | W29: 直営
I30: 工事日数
P31: 90 | W31: 日
I32: 完成期限
P33: 46413 | CD33: 設計者
I35: 46283 | Y35: 作成
I37: 令和 年 月 日 | Y37: 決裁

Sheet 工事概要
D3: 工事概要
H5: 延べ床面積： 旧徳王子屯所 99.90㎡
V6: 一式
D25: 起工（又は変更）理由
D34: 請負対象金額 | AV34: 設計金額
N35: 消費税込み金額 | AC35: 消費税抜き金額 | BF35: 消費税込み金額 | BU35: 消費税抜き金額
N36: =N38 -> 0 | AC36: =AC38 -> 0 | BF36: =BF38 -> 0 | BU36: =BU38 -> 0
D37: 事業費 | Z37: 円 | AO37: 円 | BR37: 円 | CG37: 円
N38: =AC38*1.1 -> 0 | BF38: =BU38*1.1 -> 0
D39: 請負対象金額 | Z39: 円 | AO39: 円 | AV39: 設計金額 | BR39: 円 | CG39: 円
D41: その他 | Z41: 円 | AO41: 円 | AV41: その他 | BR41: 円 | CG41: 円

Sheet 種目別内訳
E1: 金 | G1: =I38 -> 0 | I1: 円
E3: （ 工事価格 金 | G3: =I30 -> 0 | I3: 円）
C4: （種目別内訳）
B5: 記号 | C5: 名 称 | D5: 摘 要 | G5: 数 量 | H5: 単位 | I5: 金 額 | K5: 備 考 | M5: 変 更 設 計 | R5: 単 価 | S5: 金 額 | T5: 備 考
M6: 数量 | N6: 単 価 | O6: 金 額 | P6: 差引金額 | Q6: 備 考
A7: =ROUNDDOWN(((ROW(A7)-3)/36)+1,0) -> 1 | O7: =ROUNDDOWN(M7*N7,0) -> 0 | P7: =O7-J7 -> 0
A8: =ROUNDDOWN(((ROW(A8)-3)/36)+1,0) -> 1 | C8: 直接工事費
A9: =ROUNDDOWN(((ROW(A9)-3)/36)+1,0) -> 1 | O9: =ROUNDDOWN(M9*N9,0) -> 0 | P9: =O9-J19 -> 0
A10: =ROUNDDOWN(((ROW(A10)-3)/36)+1,0) -> 1 | B10: Ａ | C10: 直接工事 | I10: =科目別内訳!I35 -> 0
A11: =ROUNDDOWN(((ROW(A11)-3)/36)+1,0) -> 1
A12: =ROUNDDOWN(((ROW(A12)-3)/36)+1,0) -> 1
A13: =ROUNDDOWN(((ROW(A13)-3)/36)+1,0) -> 1
A14: =ROUNDDOWN(((ROW(A14)-3)/36)+1,0) -> 1
A15: =ROUNDDOWN(((ROW(A15)-3)/36)+1,0) -> 1
A16: =ROUNDDOWN(((ROW(A16)-3)/36)+1,0) -> 1 | C16: 計 | I16: =SUM(I8:I15) -> 0
A17: =ROUNDDOWN(((ROW(A17)-3)/36)+1,0) -> 1 | O17: =ROUNDDOWN(M17*N17,0) -> 0 | P17: =O17-J17 -> 0
A18: =ROUNDDOWN(((ROW(A18)-3)/36)+1,0) -> 1
A19: =ROUNDDOWN(((ROW(A19)-3)/36)+1,0) -> 1 | O19: =ROUNDDOWN(M19*N19,0) -> 0 | P19: =O19-#REF! -> #REF!
A20: =ROUNDDOWN(((ROW(A20)-3)/36)+1,0) -> 1 | C20: 共通費
A21: =ROUNDDOWN(((ROW(A21)-3)/36)+1,0) -> 1 | O21: =ROUNDDOWN(M21*N21,0) -> 0 | P21: =O21-J21 -> 0
A22: =ROUNDDOWN(((ROW(A22)-3)/36)+1,0) -> 1 | B22: Ⅰ | C22: 共通仮設費 | G22: 1 | H22: 式
A23: =ROUNDDOWN(((ROW(A23)-3)/36)+1,0) -> 1
A24: =ROUNDDOWN(((ROW(A24)-3)/36)+1,0) -> 1 | B24: Ⅱ | C24: 現場管理費 | G24: 1 | H24: 式
A25: =ROUNDDOWN(((ROW(A25)-3)/36)+1,0) -> 1 | L25: 調整前 | O25: =ROUNDDOWN(M25*N25,0) -> 0 | P25: =O25-J25 -> 0
A26: =ROUNDDOWN(((ROW(A26)-3)/36)+1,0) -> 1 | B26: Ⅲ | C26: 一般管理費等 | E26: 契約保証費含む | G26: 1 | H26: 式
A27: =ROUNDDOWN(((ROW(A27)-3)/36)+1,0) -> 1 | O27: =ROUNDDOWN(M27*N27,0) -> 0 | P27: =O27-J27 -> 0
A28: =ROUNDDOWN(((ROW(A28)-3)/36)+1,0) -> 1 | C28: 計 | I28: =SUM(I22:J26) -> 0
A29: =ROUNDDOWN(((ROW(A29)-3)/36)+1,0) -> 1 | O29: =ROUNDDOWN(M29*N29,0) -> 0 | P29: =O29-J29 -> 0
A30: =ROUNDDOWN(((ROW(A30)-3)/36)+1,0) -> 1 | C30: 合計 | I30: =I16+I28 -> 0
A31: =ROUNDDOWN(((ROW(A31)-3)/36)+1,0) -> 1 | O31: =ROUNDDOWN(M31*N31,0) -> 0 | P31: =O31-J31 -> 0
A32: =ROUNDDOWN(((ROW(A32)-3)/36)+1,0) -> 1
A33: =ROUNDDOWN(((ROW(A33)-3)/36)+1,0) -> 1 | O33: =ROUNDDOWN(M33*N33,0) -> 0 | P33: =O33-J33 -> 0
A34: =ROUNDDOWN(((ROW(A34)-3)/36)+1,0) -> 1 | C34: 消費税等相当額 | G34: 1 | H34: 式 | I34: =I30*0.1 -> 0
A35: =ROUNDDOWN(((ROW(A35)-3)/36)+1,0) -> 1
A36: =ROUNDDOWN(((ROW(A36)-3)/36)+1,0) -> 1
A37: =ROUNDDOWN(((ROW(A37)-3)/36)+1,0) -> 1 | O37: =ROUNDDOWN(M37*N37,0) -> 0 | P37: =O37-J37 -> 0
A38: =ROUNDDOWN(((ROW(A38)-3)/36)+1,0) -> 1 | C38: 総合計（工事費） | I38: =I30+I34 -> 0

Sheet 科目別内訳
B2: 記号 | C2: 名 称 | E2: 摘 要 | G2: 数 量 | H2: 単位 | I2: 金 額 | K2: 備 考
A4: =ROUNDDOWN(((ROW(A4)-4)/36)+1,0) -> 1
A5: =ROUNDDOWN(((ROW(A5)-4)/36)+1,0) -> 1 | B5: Ａ | C5: 直接工事
A6: =ROUNDDOWN(((ROW(A6)-4)/36)+1,0) -> 1
A7: =ROUNDDOWN(((ROW(A7)-4)/36)+1,0) -> 1
A8: =ROUNDDOWN(((ROW(A8)-4)/36)+1,0) -> 1
A9: =ROUNDDOWN(((ROW(A9)-4)/36)+1,0) -> 1 | B9: A-1 | C9: 直接仮設 | G9: 1 | H9: 式 | I9: ='細目別内訳（建築）'!K37 -> 0
A10: =ROUNDDOWN(((ROW(A10)-4)/36)+1,0) -> 1
A11: =ROUNDDOWN(((ROW(A11)-4)/36)+1,0) -> 1 | B11: A-2 | C11: 解体撤去 | G11: 1 | H11: 式 | I11: =中科目別内訳!I37 -> 0
A12: =ROUNDDOWN(((ROW(A12)-4)/36)+1,0) -> 1
A13: =ROUNDDOWN(((ROW(A13)-4)/36)+1,0) -> 1 | B13: A-3 | C13: 撤去跡地整備 | G13: 1 | H13: 式 | I13: ='細目別内訳（外構）'!K37 -> 0
A16: =ROUNDDOWN(((ROW(A16)-4)/36)+1,0) -> 1
A17: =ROUNDDOWN(((ROW(A17)-4)/36)+1,0) -> 1
A18: =ROUNDDOWN(((ROW(A18)-4)/36)+1,0) -> 1
A19: =ROUNDDOWN(((ROW(A19)-4)/36)+1,0) -> 1
A20: =ROUNDDOWN(((ROW(A20)-4)/36)+1,0) -> 1
A21: =ROUNDDOWN(((ROW(A21)-4)/36)+1,0) -> 1
A22: =ROUNDDOWN(((ROW(A22)-4)/36)+1,0) -> 1
A23: =ROUNDDOWN(((ROW(A23)-4)/36)+1,0) -> 1
A24: =ROUNDDOWN(((ROW(A24)-4)/36)+1,0) -> 1
A25: =ROUNDDOWN(((ROW(A25)-4)/36)+1,0) -> 1
A26: =ROUNDDOWN(((ROW(A26)-4)/36)+1,0) -> 1
A27: =ROUNDDOWN(((ROW(A27)-4)/36)+1,0) -> 1
... A34: =ROUNDDOWN(((ROW(A34)-4)/36)+1,0) -> 1
A35: =ROUNDDOWN(((ROW(A35)-4)/36)+1,0) -> 1 | C35: 計 | I35: =SUM(I9:I34) -> 0
A36: =ROUNDDOWN(((ROW(A36)-4)/36)+1,0) -> 1
A37: =ROUNDDOWN(((ROW(A37)-4)/36)+1,0) -> 1
A38: =ROUNDDOWN(((ROW(A38)-4)/36)+1,0) -> 1
A39: =ROUNDDOWN(((ROW(A39)-4)/36)+1,0) -> 1

Sheet 中科目別内訳
B2: 記号 | C2: 科 目 名 称 | E2: 中 科 目 名 称 | G2: 数 量 | H2: 単位 | I2: 金 額 | J2: 備 考
A4: =ROUNDDOWN(((ROW(A4)-4)/36)+1,0) -> 1
A5: =ROUNDDOWN(((ROW(A5)-4)/36)+1,0) -> 1 | B5: A-2 | C5: 解体撤去
A6: =ROUNDDOWN(((ROW(A6)-4)/36)+1,0) -> 1
A7: =ROUNDDOWN(((ROW(A7)-4)/36)+1,0) -> 1 | C7: （1）建築 | E7: 解体撤去 | G7: 1 | H7: 式 | I7: ='細目別内訳（建築）'!K73 -> 0
A8: =ROUNDDOWN(((ROW(A8)-4)/36)+1,0) -> 1
A9: =ROUNDDOWN(((ROW(A9)-4)/36)+1,0) -> 1 | E9: 発生材処理 | G9: 1 | H9: 式 | I9: ='細目別内訳（建築）'!K145 -> 0
A10: =ROUNDDOWN(((ROW(A10)-4)/36)+1,0) -> 1
A11: =ROUNDDOWN(((ROW(A11)-4)/36)+1,0) -> 1 | C11: 計 | I11: =SUM(I6:I10) -> 0
A12: =ROUNDDOWN(((ROW(A12)-4)/36)+1,0) -> 1
A13: =ROUNDDOWN(((ROW(A13)-4)/36)+1,0) -> 1
A14: =ROUNDDOWN(((ROW(A14)-4)/36)+1,0) -> 1
A15: =ROUNDDOWN(((ROW(A15)-4)/36)+1,0) -> 1 | C15: (2) 電気 | E15: 撤去 | G15: 1 | H15: 式 | I15: ='細目別内訳（設備）'!K37 -> 0
A16: =ROUNDDOWN(((ROW(A16)-4)/36)+1,0) -> 1
A17: =ROUNDDOWN(((ROW(A17)-4)/36)+1,0) -> 1 | E17: 発生材処理 | G17: 1 | H17: 式 | I17: ='細目別内訳（設備）'!K49 -> 0
A18: =ROUNDDOWN(((ROW(A18)-4)/36)+1,0) -> 1
A19: =ROUNDDOWN(((ROW(A19)-4)/36)+1,0) -> 1 | C19: 計 | I19: =SUM(I12:I18) -> 0
A20: =ROUNDDOWN(((ROW(A20)-4)/36)+1,0) -> 1
A21: =ROUNDDOWN(((ROW(A21)-4)/36)+1,0) -> 1
A22: =ROUNDDOWN(((ROW(A22)-4)/36)+1,0) -> 1
A23: =ROUNDDOWN(((ROW(A23)-4)/36)+1,0) -> 1 | C23: (3) 機械 | E23: 撤去 | G23: 1 | H23: 式 | I23: ='細目別内訳（設備）'!K111 -> 0
A24: =ROUNDDOWN(((ROW(A24)-4)/36)+1,0) -> 1
A25: =ROUNDDOWN(((ROW(A25)-4)/36)+1,0) -> 1 | E25: 発生材処理 | G25: 1 | H25: 式 | I25: ='細目別内訳（設備）'!K123 -> 0
A26: =ROUNDDOWN(((ROW(A26)-4)/36)+1,0) -> 1
A27: =ROUNDDOWN(((ROW(A27)-4)/36)+1,0) -> 1 | C27: 計 | I27: =SUM(I22:I26) -> 0
A28: =ROUNDDOWN(((ROW(A28)-4)/36)+1,0) -> 1
A29: =ROUNDDOWN(((ROW(A29)-4)/36)+1,0) -> 1
A30: =ROUNDDOWN(((ROW(A30)-4)/36)+1,0) -> 1
A31: =ROUNDDOWN(((ROW(A31)-4)/36)+1,0) -> 1
A32: =ROUNDDOWN(((ROW(A32)-4)/36)+1,0) -> 1
A33: =ROUNDDOWN(((ROW(A33)-4)/36)+1,0) -> 1
A34: =ROUNDDOWN(((ROW(A34)-4)/36)+1,0) -> 1
A35: =ROUNDDOWN(((ROW(A35)-4)/36)+1,0) -> 1
A36: =ROUNDDOWN(((ROW(A36)-4)/36)+1,0) -> 1
A37: =ROUNDDOWN(((ROW(A37)-4)/36)+1,0) -> 1 | C37: 計 | I37: =I11+I19+I27 -> 0
A38: =ROUNDDOWN(((ROW(A38)-4)/36)+1,0) -> 1
A39: =ROUNDDOWN(((ROW(A39)-4)/36)+1,0) -> 1 | I39: =SUM(I38:I38) -> 0
A40: =ROUNDDOWN(((ROW(A40)-4)/36)+1,0) -> 2
A41: =ROUNDDOWN(((ROW(A41)-4)/36)+1,0) -> 2

Sheet 細目別内訳（建築）
C2: 記号 | D2: 名 称 | F2: 摘 要 | H2: 数 量 | I2: 単位 | J2: 単 価 | K2: 金 額 | L2: 備 考
C5: -1 | D5: 直接仮設
A6: =IF(ROW(B6)/2=INT(ROW(B6)/2),"",1) | B6: =ROUNDDOWN(((ROW(B6)-4)/36)+1,0) -> 1
A7: =IF(ROW(B7)/2=INT(ROW(B7)/2),"",1) -> 1 | B7: =ROUNDDOWN(((ROW(B7)-4)/36)+1,0) -> 1 | K7: =IF(I7="式",#REF!,(IF(J7="","",TRUNC(H7*J7))))
A8: =IF(ROW(B8)/2=INT(ROW(B8)/2),"",1) | B8: =ROUNDDOWN(((ROW(B8)-4)/36)+1,0) -> 1
A9: =IF(ROW(B9)/2=INT(ROW(B9)/2),"",1) -> 1 | B9: =ROUNDDOWN(((ROW(B9)-4)/36)+1,0) -> 1 | D9: 外部足場 | H9: 1 | I9: 式 | J9: =IF(I9="式","",#REF!) | M9: 別紙明細－4
A10: =IF(ROW(B10)/2=INT(ROW(B10)/2),"",1) | B10: =ROUNDDOWN(((ROW(B10)-4)/36)+1,0) -> 1
A11: =IF(ROW(B11)/2=INT(ROW(B11)/2),"",1) -> 1 | B11: =ROUNDDOWN(((ROW(B11)-4)/36)+1,0) -> 1
A12: =IF(ROW(B12)/2=INT(ROW(B12)/2),"",1) | B12: =ROUNDDOWN(((ROW(B12)-4)/36)+1,0) -> 1
A13: =IF(ROW(B13)/2=INT(ROW(B13)/2),"",1) -> 1 | B13: =ROUNDDOWN(((ROW(B13)-4)/36)+1,0) -> 1
A14: =IF(ROW(B14)/2=INT(ROW(B14)/2),"",1) | B14: =ROUNDDOWN(((ROW(B14)-4)/36)+1,0) -> 1
A15: =IF(ROW(B15)/2=INT(ROW(B15)/2),"",1) -> 1 | B15: =ROUNDDOWN(((ROW(B15)-4)/36)+1,0) -> 1
A16: =IF(ROW(B16)/2=INT(ROW(B16)/2),"",1) | B16: =ROUNDDOWN(((ROW(B16)-4)/36)+1,0) -> 1
A17: =IF(ROW(B17)/2=INT(ROW(B17)/2),"",1) -> 1 | B17: =ROUNDDOWN(((ROW(B17)-4)/36)+1,0) -> 1
A18: =IF(ROW(B18)/2=INT(ROW(B18)/2),"",1) | B18: =ROUNDDOWN(((ROW(B18)-4)/36)+1,0) -> 1
A19: =IF(ROW(B19)/2=INT(ROW(B19)/2),"",1) -> 1 | B19: =ROUNDDOWN(((ROW(B19)-4)/36)+1,0) -> 1
A22: =IF(ROW(B22)/2=INT(ROW(B22)/2),"",1) | B22: =ROUNDDOWN(((ROW(B22)-4)/36)+1,0) -> 1
A23: =IF(ROW(B23)/2=INT(ROW(B23)/2),"",1) -> 1 | B23: =ROUNDDOWN(((ROW(B23)-4)/36)+1,0) -> 1
... A36: =IF(ROW(B36)/2=INT(ROW(B36)/2),"",1) | B36: =ROUNDDOWN(((ROW(B36)-4)/36)+1,0) -> 1
A37: =IF(ROW(B37)/2=INT(ROW(B37)/2),"",1) -> 1 | B37: =ROUNDDOWN(((ROW(B37)-4)/36)+1,0) -> 1 | D37: 計 | K37: =SUM(K8:K36) -> 0
A38: =IF(ROW(B38)/2=INT(ROW(B38)/2),"",1) | B38: =ROUNDDOWN(((ROW(B38)-4)/36)+1,0) -> 1
A39: =IF(ROW(B39)/2=INT(ROW(B39)/2),"",1) -> 1 | B39: =ROUNDDOWN(((ROW(B39)-4)/36)+1,0) -> 1
A40: =IF(ROW(B40)/2=INT(ROW(B40)/2),"",1) | B40: =ROUNDDOWN(((ROW(B40)-4)/36)+1,0) -> 2
A41: =IF(ROW(B41)/2=INT(ROW(B41)/2),"",1) -> 1 | B41: =ROUNDDOWN(((ROW(B41)-4)/36)+1,0) -> 2 | C41: -2 | D41: 解体撤去
A42: =IF(ROW(B42)/2=INT(ROW(B42)/2),"",1) | B42: =ROUNDDOWN(((ROW(B42)-4)/36)+1,0) -> 2
A43: =IF(ROW(B43)/2=INT(ROW(B43)/2),"",1) -> 1 | B43: =ROUNDDOWN(((ROW(B43)-4)/36)+1,0) -> 2
A44: =IF(ROW(B44)/2=INT(ROW(B44)/2),"",1) | B44: =ROUNDDOWN(((ROW(B44)-4)/36)+1,0) -> 2
A45: =IF(ROW(B45)/2=INT(ROW(B45)/2),"",1) -> 1 | B45: =ROUNDDOWN(((ROW(B45)-4)/36)+1,0) -> 2 | D45: 上屋解体撤去 | F45: 木造平屋・スレート瓦葺き | H45: 99.9 | I45: ｍ2 | K45: =IF(I45="式",#REF!,(IF(J45="","",TRUNC(H45*J45))))
A46: =IF(ROW(B46)/2=INT(ROW(B46)/2),"",1) | B46: =ROUNDDOWN(((ROW(B46)-4)/36)+1,0) -> 2
A47: =IF(ROW(B47)/2=INT(ROW(B47)/2),"",1) -> 1 | B47: =ROUNDDOWN(((ROW(B47)-4)/36)+1,0) -> 2 | D47: 基礎コンクリート撤去 | H47: 9.1 | I47: ｍ3 | K47: =IF(I47="式",#REF!,(IF(J47="","",TRUNC(H47*J47))))
A48: =IF(ROW(B48)/2=INT(ROW(B48)/2),"",1) | B48: =ROUNDDOWN(((ROW(B48)-4)/36)+1,0) -> 2
A49: =IF(ROW(B49)/2=INT(ROW(B49)/2),"",1) -> 1 | B49: =ROUNDDOWN(((ROW(B49)-4)/36)+1,0) -> 2 | D49: 土間コンクリート撤去 | H49: 11.3 | I49: ｍ3 | K49: =IF(I49="式",#REF!,(IF(J49="","",TRUNC(H49*J49))))
A50: =IF(ROW(B50)/2=INT(ROW(B50)/2),"",1) | B50: =ROUNDDOWN(((ROW(B50)-4)/36)+1,0) -> 2
A51: =IF(ROW(B51)/2=INT(ROW(B51)/2),"",1) -> 1 | B51: =ROUNDDOWN(((ROW(B51)-4)/36)+1,0) -> 2 | D51: 捨てコンクリート撤去 | H51: 2.3 | I51: ｍ3 | K51: =IF(I51="式",#REF!,(IF(J51="","",TRUNC(H51*J51))))
A52: =IF(ROW(B52)/2=INT(ROW(B52)/2),"",1) | B52: =ROUNDDOWN(((ROW(B52)-4)/36)+1,0) -> 2
A53: =IF(ROW(B53)/2=INT(ROW(B53)/2),"",1) -> 1 | B53: =ROUNDDOWN(((ROW(B53)-4)/36)+1,0) -> 2 | D53: 砕石撤去 | H53: 11 | I53: ｍ3 | K53: =IF(I53="式",#REF!,(IF(J53="","",TRUNC(H53*J53))))
A54: =IF(ROW(B54)/2=INT(ROW(B54)/2),"",1) | B54: =ROUNDDOWN(((ROW(B54)-4)/36)+1,0) -> 2
A55: =IF(ROW(B55)/2=INT(ROW(B55)/2),"",1) -> 1 | B55: =ROUNDDOWN(((ROW(B55)-4)/36)+1,0) -> 2 | D55: アルミ製建具撤去 | H55: 23 | I55: ｍ2 | K55: =IF(I55="式",#REF!,(IF(J55="","",TRUNC(H55*J55))))
A56: =IF(ROW(B56)/2=INT(ROW(B56)/2),"",1) | B56: =ROUNDDOWN(((ROW(B56)-4)/36)+1,0) -> 2
A57: =IF(ROW(B57)/2=INT(ROW(B57)/2),"",1) -> 1 | B57: =ROUNDDOWN(((ROW(B57)-4)/36)+1,0) -> 2 | D57: スチール製建具撤去 | H57: 13.6 | I57: ｍ2 | K57: =IF(I57="式",#REF!,(IF(J57="","",TRUNC(H57*J57))))
A58: =IF(ROW(B58)/2=INT(ROW(B58)/2),"",1) | B58: =ROUNDDOWN(((ROW(B58)-4)/36)+1,0) -> 2
A59: =IF(ROW(B59)/2=INT(ROW(B59)/2),"",1) -> 1 | B59: =ROUNDDOWN(((ROW(B59)-4)/36)+1,0) -> 2 | D59: 木製建具撤去 | H59: 18.5 | I59: ｍ2 | K59: =IF(I59="式",#REF!,(IF(J59="","",TRUNC(H59*J59))))
A60: =IF(ROW(B60)/2=INT(ROW(B60)/2),"",1) | B60: =ROUNDDOWN(((ROW(B60)-4)/36)+1,0) -> 2
A61: =IF(ROW(B61)/2=INT(ROW(B61)/2),"",1) -> 1 | B61: =ROUNDDOWN(((ROW(B61)-4)/36)+1,0) -> 2 | D61: コンクリート支柱撤去 | H61: 1 | I61: か所 | K61: =IF(I61="式",#REF!,(IF(J61="","",TRUNC(H61*J61))))
A62: =IF(ROW(B62)/2=INT(ROW(B62)/2),"",1) | B62: =ROUNDDOWN(((ROW(B62)-4)/36)+1,0) -> 2
A63: =IF(ROW(B63)/2=INT(ROW(B63)/2),"",1) -> 1 | B63: =ROUNDDOWN(((ROW(B63)-4)/36)+1,0) -> 2 | D63: レッカー車 | H63: 2 | I63: 日 | K63: =IF(I63="式",#REF!,(IF(J63="","",TRUNC(H63*J63))))
A64: =IF(ROW(B64)/2=INT(ROW(B64)/2),"",1) | B64: =ROUNDDOWN(((ROW(B64)-4)/36)+1,0) -> 2
A65: =IF(ROW(B65)/2=INT(ROW(B65)/2),"",1) -> 1 | B65: =ROUNDDOWN(((ROW(B65)-4)/36)+1,0) -> 2 | D65: コンクリートカッター切り | H65: 11.8 | I65: ｍ | K65: =IF(I65="式",#REF!,(IF(J65="","",TRUNC(H65*J65))))
A66: =IF(ROW(B66)/2=INT(ROW(B66)/2),"",1) | B66: =ROUNDDOWN(((ROW(B66)-4)/36)+1,0) -> 2
A67: =IF(ROW(B67)/2=INT(ROW(B67)/2),"",1) -> 1 | B67: =ROUNDDOWN(((ROW(B67)-4)/36)+1,0) -> 2 | K67: =IF(I67="式",#REF!,(IF(J67="","",TRUNC(H67*J67))))
A68: =IF(ROW(B68)/2=INT(ROW(B68)/2),"",1) | B68: =ROUNDDOWN(((ROW(B68)-4)/36)+1,0) -> 2
A69: =IF(ROW(B69)/2=INT(ROW(B69)/2),"",1) -> 1 | B69: =ROUNDDOWN(((ROW(B69)-4)/36)+1,0) -> 2 | K69: =IF(I69="式",#REF!,(IF(J69="","",TRUNC(H69*J69))))
A70: =IF(ROW(B70)/2=INT(ROW(B70)/2),"",1) | B70: =ROUNDDOWN(((ROW(B70)-4)/36)+1,0) -> 2
A71: =IF(ROW(B71)/2=INT(ROW(B71)/2),"",1) -> 1 | B71: =ROUNDDOWN(((ROW(B71)-4)/36)+1,0) -> 2 | K71: =IF(I71="式",#REF!,(IF(J71="","",TRUNC(H71*J71))))
A72: =IF(ROW(B72)/2=INT(ROW(B72)/2),"",1) | B72: =ROUNDDOWN(((ROW(B72)-4)/36)+1,0) -> 2
A73: =IF(ROW(B73)/2=INT(ROW(B73)/2),"",1) -> 1 | B73: =ROUNDDOWN(((ROW(B73)-4)/36)+1,0) -> 2 | D73: 計 | K73: =SUM(K44:K72) -> 0
A74: =IF(ROW(B74)/2=INT(ROW(B74)/2),"",1) | B74: =ROUNDDOWN(((ROW(B74)-4)/36)+1,0) -> 2
A75: =IF(ROW(B75)/2=INT(ROW(B75)/2),"",1) -> 1 | B75: =ROUNDDOWN(((ROW(B75)-4)/36)+1,0) -> 2 | K75: =IF(I75="式",#REF!,(IF(J75="","",TRUNC(H75*J75))))
A76: =IF(ROW(B76)/2=INT(ROW(B76)/2),"",1) | B76: =ROUNDDOWN(((ROW(B76)-4)/36)+1,0) -> 3
A77: =IF(ROW(B77)/2=INT(ROW(B77)/2),"",1) -> 1 | B77: =ROUNDDOWN(((ROW(B77)-4)/36)+1,0) -> 3 | C77: 3) | D77: 発生材処理 | K77: =IF(I77="式",#REF!,(IF(J77="","",TRUNC(H77*J77))))
A78: =IF(ROW(B78)/2=INT(ROW(B78)/2),"",1) | B78: =ROUNDDOWN(((ROW(B78)-4)/36)+1,0) -> 3
A79: =IF(ROW(B79)/2=INT(ROW(B79)/2),"",1) -> 1 | B79: =ROUNDDOWN(((ROW(B79)-4)/36)+1,0) -> 3 | C79: -1 | D79: 運搬 | K79: =IF(I79="式",#REF!,(IF(J79="","",TRUNC(H79*J79))))
A80: =IF(ROW(B80)/2=INT(ROW(B80)/2),"",1) | B80: =ROUNDDOWN(((ROW(B80)-4)/36)+1,0) -> 3
A81: =IF(ROW(B81)/2=INT(ROW(B81)/2),"",1) -> 1 | B81: =ROUNDDOWN(((ROW(B81)-4)/36)+1,0) -> 3 | F81: 積込み共
A82: =IF(ROW(B82)/2=INT(ROW(B82)/2),"",1) | B82: =ROUNDDOWN(((ROW(B82)-4)/36)+1,0) -> 3
A83: =IF(ROW(B83)/2=INT(ROW(B83)/2),"",1) -> 1 | B83: =ROUNDDOWN(((ROW(B83)-4)/36)+1,0) -> 3 | D83: （発生材運搬） | F83: コンクリート類 | H83: 47.6 | I83: ｍ3 | K83: =IF(I83="式",#REF!,(IF(J83="","",TRUNC(H83*J83))))
A84: =IF(ROW(B84)/2=INT(ROW(B84)/2),"",1) | B84: =ROUNDDOWN(((ROW(B84)-4)/36)+1,0) -> 3
A85: =IF(ROW(B85)/2=INT(ROW(B85)/2),"",1) -> 1 | B85: =ROUNDDOWN(((ROW(B85)-4)/36)+1,0) -> 3 | D85: （発生材運搬） | F85: 金属類 | H85: 1917 | I85: ｋｇ | K85: =IF(I85="式",#REF!,(IF(J85="","",TRUNC(H85*J85))))
A86: =IF(ROW(B86)/2=INT(ROW(B86)/2),"",1) | B86: =ROUNDDOWN(((ROW(B86)-4)/36)+1,0) -> 3
A87: =IF(ROW(B87)/2=INT(ROW(B87)/2),"",1) -> 1 | B87: =ROUNDDOWN(((ROW(B87)-4)/36)+1,0) -> 3 | D87: （発生材運搬） | F87: 木材類 | H87: 23 | I87: ｍ3 | K87: =IF(I87="式",#REF!,(IF(J87="","",TRUNC(H87*J87))))
A88: =IF(ROW(B88)/2=INT(ROW(B88)/2),"",1) | B88: =ROUNDDOWN(((ROW(B88)-4)/36)+1,0) -> 3
A89: =IF(ROW(B89)/2=INT(ROW(B89)/2),"",1) -> 1 | B89: =ROUNDDOWN(((ROW(B89)-4)/36)+1,0) -> 3 | D89: （発生材運搬） | F89: ボード類 | H89: 1.7 | I89: ｍ3 | K89: =IF(I89="式",#REF!,(IF(J89="","",TRUNC(H89*J89))))
A90: =IF(ROW(B90)/2=INT(ROW(B90)/2),"",1) | B90: =ROUNDDOWN(((ROW(B90)-4)/36)+1,0) -> 3
A91: =IF(ROW(B91)/2=INT(ROW(B91)/2),"",1) -> 1 | B91: =ROUNDDOWN(((ROW(B91)-4)/36)+1,0) -> 3 | D91: （発生材運搬） | F91: ガラス・タイル類 | H91: 0.1 | I91: ｍ3 | K91: =IF(I91="式",#REF!,(IF(J91="","",TRUNC(H91*J91))))
A92: =IF(ROW(B92)/2=INT(ROW(B92)/2),"",1) | B92: =ROUNDDOWN(((ROW(B92)-4)/36)+1,0) -> 3
A93: =IF(ROW(B93)/2=INT(ROW(B93)/2),"",1) -> 1 | B93: =ROUNDDOWN(((ROW(B93)-4)/36)+1,0) -> 3 | D93: （発生材運搬） | F93: プラスチック類 | H93: 0.5 | I93: ｍ3 | K93: =IF(I93="式",#REF!,(IF(J93="","",TRUNC(H93*J93))))
A94: =IF(ROW(B94)/2=INT(ROW(B94)/2),"",1) | B94: =ROUNDDOWN(((ROW(B94)-4)/36)+1,0) -> 3
A95: =IF(ROW(B95)/2=INT(ROW(B95)/2),"",1) -> 1 | B95: =ROUNDDOWN(((ROW(B95)-4)/36)+1,0) -> 3 | D95: （発生材運搬） | F95: アスファルト類 | H95: 0.1 | I95: ｍ3 | K95: =IF(I95="式",#REF!,(IF(J95="","",TRUNC(H95*J95))))
A96: =IF(ROW(B96)/2=INT(ROW(B96)/2),"",1) | B96: =ROUNDDOWN(((ROW(B96)-4)/36)+1,0) -> 3
A97: =IF(ROW(B97)/2=INT(ROW(B97)/2),"",1) -> 1 | B97: =ROUNDDOWN(((ROW(B97)-4)/36)+1,0) -> 3 | D97: （発生材運搬） | F97: その他がれき類 | H97: 2.6 | I97: ｍ3 | K97: =IF(I97="式",#REF!,(IF(J97="","",TRUNC(H97*J97))))
A98: =IF(ROW(B98)/2=INT(ROW(B98)/2),"",1) | B98: =ROUNDDOWN(((ROW(B98)-4)/36)+1,0) -> 3
A99: =IF(ROW(B99)/2=INT(ROW(B99)/2),"",1) -> 1 | B99: =ROUNDDOWN(((ROW(B99)-4)/36)+1,0) -> 3
A100: =IF(ROW(B100)/2=INT(ROW(B100)/2),"",1) | B100: =ROUNDDOWN(((ROW(B100)-4)/36)+1,0) -> 3
A101: =IF(ROW(B101)/2=INT(ROW(B101)/2),"",1) -> 1 | B101: =ROUNDDOWN(((ROW(B101)-4)/36)+1,0) -> 3 | D101: 運搬の計 | K101: =SUM(K82:K100) -> 0
A102: =IF(ROW(B102)/2=INT(ROW(B102)/2),"",1) | B102: =ROUNDDOWN(((ROW(B102)-4)/36)+1,0) -> 3
A103: =IF(ROW(B103)/2=INT(ROW(B103)/2),"",1) -> 1 | B103: =ROUNDDOWN(((ROW(B103)-4)/36)+1,0) -> 3
A104: =IF(ROW(B104)/2=INT(ROW(B104)/2),"",1) | B104: =ROUNDDOWN(((ROW(B104)-4)/36)+1,0) -> 3
A105: =IF(ROW(B105)/2=INT(ROW(B105)/2),"",1) -> 1 | B105: =ROUNDDOWN(((ROW(B105)-4)/36)+1,0) -> 3 | C105: -2 | D105: 処分 | K105: =IF(I105="式",#REF!,(IF(J105="","",TRUNC(H105*J105))))
A106: =IF(ROW(B106)/2=INT(ROW(B106)/2),"",1) | B106: =ROUNDDOWN(((ROW(B106)-4)/36)+1,0) -> 3
A107: =IF(ROW(B107)/2=INT(ROW(B107)/2),"",1) -> 1 | B107: =ROUNDDOWN(((ROW(B107)-4)/36)+1,0) -> 3 | D107: （発生材処分） | F107: コンクリート類 | H107: 47.6 | I107: ｍ3 | K107: =IF(I107="式",#REF!,(IF(J107="","",TRUNC(H107*J107))))
A108: =IF(ROW(B108)/2=INT(ROW(B108)/2),"",1) | B108: =ROUNDDOWN(((ROW(B108)-4)/36)+1,0) -> 3
A109: =IF(ROW(B109)/2=INT(ROW(B109)/2),"",1) -> 1 | B109: =ROUNDDOWN(((ROW(B109)-4)/36)+1,0) -> 3 | D109: （発生材処分） | F109: 金属類 | H109: 1917 | I109: ｋｇ | K109: =IF(I109="式",#REF!,(IF(J109="","",TRUNC(H109*J109))))
A110: =IF(ROW(B110)/2=INT(ROW(B110)/2),"",1) | B110: =ROUNDDOWN(((ROW(B110)-4)/36)+1,0) -> 3
A111: =IF(ROW(B111)/2=INT(ROW(B111)/2),"",1) -> 1 | B111: =ROUNDDOWN(((ROW(B111)-4)/36)+1,0) -> 3 | D111: （発生材処分） | F111: 木材類 | H111: 23 | I111: ｍ3 | K111: =IF(I111="式",#REF!,(IF(J111="","",TRUNC(H111*J111))))
A112: =IF(ROW(B112)/2=INT(ROW(B112)/2),"",1) | B112: =ROUNDDOWN(((ROW(B112)-4)/36)+1,0) -> 4
A113: =IF(ROW(B113)/2=INT(ROW(B113)/2),"",1) -> 1 | B113: =ROUNDDOWN(((ROW(B113)-4)/36)+1,0) -> 4 | D113: （発生材処分） | F113: ボード類 | H113: 1.7 | I113: ｍ3 | K113: =IF(I113="式",#REF!,(IF(J113="","",TRUNC(H113*J113))))
A114: =IF(ROW(B114)/2=INT(ROW(B114)/2),"",1) | B114: =ROUNDDOWN(((ROW(B114)-4)/36)+1,0) -> 4
A115: =IF(ROW(B115)/2=INT(ROW(B115)/2),"",1) -> 1 | B115: =ROUNDDOWN(((ROW(B115)-4)/36)+1,0) -> 4 | D115: （発生材処分） | F115: ガラス・タイル類 | H115: 0.1 | I115: ｍ3 | K115: =IF(I115="式",#REF!,(IF(J115="","",TRUNC(H115*J115))))
A116: =IF(ROW(B116)/2=INT(ROW(B116)/2),"",1) | B116: =ROUNDDOWN(((ROW(B116)-4)/36)+1,0) -> 4
A117: =IF(ROW(B117)/2=INT(ROW(B117)/2),"",1) -> 1 | B117: =ROUNDDOWN(((ROW(B117)-4)/36)+1,0) -> 4 | D117: （発生材処分） | F117: プラスチック類 | H117: 0.5 | I117: ｍ3 | K117: =IF(I117="式",#REF!,(IF(J117="","",TRUNC(H117*J117))))
...

Sheet 細目別内訳（設備）
C2: 記号 | D2: 名 称 | F2: 摘 要 | H2: 数 量 | I2: 単位 | J2: 単 価 | K2: 金 額 | L2: 備 考
C5: -1 | D5: 電気設備
A6: =IF(ROW(B6)/2=INT(ROW(B6)/2),"",1) | B6: =ROUNDDOWN(((ROW(B6)-4)/36)+1,0) -> 1
A7: =IF(ROW(B7)/2=INT(ROW(B7)/2),"",1) -> 1 | B7: =ROUNDDOWN(((ROW(B7)-4)/36)+1,0) -> 1 | D7: ＜撤去＞ | K7: =IF(I7="式",#REF!,(IF(J7="","",TRUNC(H7*J7))))
A8: =IF(ROW(B8)/2=INT(ROW(B8)/2),"",1) | B8: =ROUNDDOWN(((ROW(B8)-4)/36)+1,0) -> 1
A9: =IF(ROW(B9)/2=INT(ROW(B9)/2),"",1) -> 1 | B9: =ROUNDDOWN(((ROW(B9)-4)/36)+1,0) -> 1 | D9: 照明器具撤去 | F9: Ａ | H9: 2 | I9: か所 | K9: =IF(I9="式",#REF!,(IF(J9="","",TRUNC(H9*J9))))
A10: =IF(ROW(B10)/2=INT(ROW(B10)/2),"",1) | B10: =ROUNDDOWN(((ROW(B10)-4)/36)+1,0) -> 1
A11: =IF(ROW(B11)/2=INT(ROW(B11)/2),"",1) -> 1 | B11: =ROUNDDOWN(((ROW(B11)-4)/36)+1,0) -> 1 | D11: 照明器具撤去 | F11: Ｂ | H11: 1 | I11: か所 | K11: =IF(I11="式",#REF!,(IF(J11="","",TRUNC(H11*J11))))
A12: =IF(ROW(B12)/2=INT(ROW(B12)/2),"",1) | B12: =ROUNDDOWN(((ROW(B12)-4)/36)+1,0) -> 1
A13: =IF(ROW(B13)/2=INT(ROW(B13)/2),"",1) -> 1 | B13: =ROUNDDOWN(((ROW(B13)-4)/36)+1,0) -> 1 | D13: 照明器具撤去 | F13: Ｃ | H13: 2 | I13: か所 | K13: =IF(I13="式",#REF!,(IF(J13="","",TRUNC(H13*J13))))
A14: =IF(ROW(B14)/2=INT(ROW(B14)/2),"",1) | B14: =ROUNDDOWN(((ROW(B14)-4)/36)+1,0) -> 1
A15: =IF(ROW(B15)/2=INT(ROW(B15)/2),"",1) -> 1 | B15: =ROUNDDOWN(((ROW(B15)-4)/36)+1,0) -> 1 | D15: 照明器具撤去 | F15: Ｄ | H15: 2 | I15: か所 | K15: =IF(I15="式",#REF!,(IF(J15="","",TRUNC(H15*J15))))
A16: =IF(ROW(B16)/2=INT(ROW(B16)/2),"",1) | B16: =ROUNDDOWN(((ROW(B16)-4)/36)+1,0) -> 1
A17: =IF(ROW(B17)/2=INT(ROW(B17)/2),"",1) -> 1 | B17: =ROUNDDOWN(((ROW(B17)-4)/36)+1,0) -> 1 | D17: 照明器具撤去 | F17: Ｅ | H17: 1 | I17: か所 | K17: =IF(I17="式",#REF!,(IF(J17="","",TRUNC(H17*J17))))
A18: =IF(ROW(B18)/2=INT(ROW(B18)/2),"",1) | B18: =ROUNDDOWN(((ROW(B18)-4)/36)+1,0) -> 1
A19: =IF(ROW(B19)/2=INT(ROW(B19)/2),"",1) -> 1 | B19: =ROUNDDOWN(((ROW(B19)-4)/36)+1,0) -> 1 | D19: 照明器具撤去 | F19: Ｆ | H19: 1 | I19: か所 | K19: =IF(I19="式",#REF!,(IF(J19="","",TRUNC(H19*J19))))
D21: 赤色灯撤去 | H21: 1 | I21: か所 | K21: =IF(I21="式",#REF!,(IF(J21="","",TRUNC(H21*J21))))
A22: =IF(ROW(B22)/2=INT(ROW(B22)/2),"",1) | B22: =ROUNDDOWN(((ROW(B22)-4)/36)+1,0) -> 1
A23: =IF(ROW(B23)/2=INT(ROW(B23)/2),"",1) -> 1 | B23: =ROUNDDOWN(((ROW(B23)-4)/36)+1,0) -> 1 | D23: 換気扇撤去 | F23: ウェザーカバー共 | H23: 2 | I23: か所 | K23: =IF(I23="式",#REF!,(IF(J23="","",TRUNC(H23*J23))))
A24: =IF(ROW(B24)/2=INT(ROW(B24)/2),"",1) | B24: =ROUNDDOWN(((ROW(B24)-4)/36)+1,0) -> 1
A25: =IF(ROW(B25)/2=INT(ROW(B25)/2),"",1) -> 1 | B25: =ROUNDDOWN(((ROW(B25)-4)/36)+1,0) -> 1 | D25: ウインドクーラー撤去 | H25: 1 | I25: か所 | K25: =IF(I25="式",#REF!,(IF(J25="","",TRUNC(H25*J25))))
A26: =IF(ROW(B26)/2=INT(ROW(B26)/2),"",1) | B26: =ROUNDDOWN(((ROW(B26)-4)/36)+1,0) -> 1
A27: =IF(ROW(B27)/2=INT(ROW(B27)/2),"",1) -> 1 | B27: =ROUNDDOWN(((ROW(B27)-4)/36)+1,0) -> 1 | D27: 警報盤撤去 | H27: 1 | I27: か所 | K27: =IF(I27="式",#REF!,(IF(J27="","",TRUNC(H27*J27))))
A28: =IF(ROW(B28)/2=INT(ROW(B28)/2),"",1) | B28: =ROUNDDOWN(((ROW(B28)-4)/36)+1,0) -> 1
A29: =IF(ROW(B29)/2=INT(ROW(B29)/2),"",1) -> 1 | B29: =ROUNDDOWN(((ROW(B29)-4)/36)+1,0) -> 1 | D29: メーターＢＯＸ撤去 | H29: 1 | I29: か所 | K29: =IF(I29="式",#REF!,(IF(J29="","",TRUNC(H29*J29))))
A30: =IF(ROW(B30)/2=INT(ROW(B30)/2),"",1) | B30: =ROUNDDOWN(((ROW(B30)-4)/36)+1,0) -> 1
A31: =IF(ROW(B31)/2=INT(ROW(B31)/2),"",1) -> 1 | B31: =ROUNDDOWN(((ROW(B31)-4)/36)+1,0) -> 1 | D31: 引込ＢＯＸ撤去 | H31: 1 | I31: か所 | K31: =IF(I31="式",#REF!,(IF(J31="","",TRUNC(H31*J31))))
A32: =IF(ROW(B32)/2=INT(ROW(B32)/2),"",1) | B32: =ROUNDDOWN(((ROW(B32)-4)/36)+1,0) -> 1
A33: =IF(ROW(B33)/2=INT(ROW(B33)/2),"",1) -> 1 | B33: =ROUNDDOWN(((ROW(B33)-4)/36)+1,0) -> 1 | D33: 配線等撤去 | H33: 1 | I33: 式
A34: =IF(ROW(B34)/2=INT(ROW(B34)/2),"",1) | B34: =ROUNDDOWN(((ROW(B34)-4)/36)+1,0) -> 1
A35: =IF(ROW(B35)/2=INT(ROW(B35)/2),"",1) -> 1 | B35: =ROUNDDOWN(((ROW(B35)-4)/36)+1,0) -> 1
A36: =IF(ROW(B36)/2=INT(ROW(B36)/2),"",1) | B36: =ROUNDDOWN(((ROW(B36)-4)/36)+1,0) -> 1
A37: =IF(ROW(B37)/2=INT(ROW(B37)/2),"",1) -> 1 | B37: =ROUNDDOWN(((ROW(B37)-4)/36)+1,0) -> 1 | D37: 撤去の計 | K37: =SUM(K8:K36) -> 0
A38: =IF(ROW(B38)/2=INT(ROW(B38)/2),"",1) | B38: =ROUNDDOWN(((ROW(B38)-4)/36)+1,0) -> 1
A39: =IF(ROW(B39)/2=INT(ROW(B39)/2),"",1) -> 1 | B39: =ROUNDDOWN(((ROW(B39)-4)/36)+1,0) -> 1 | K39: =IF(I39="式",#REF!,(IF(J39="","",TRUNC(H39*J39))))
A40: =IF(ROW(B40)/2=INT(ROW(B40)/2),"",1) | B40: =ROUNDDOWN(((ROW(B40)-4)/36)+1,0) -> 2
A41: =IF(ROW(B41)/2=INT(ROW(B41)/2),"",1) -> 1 | B41: =ROUNDDOWN(((ROW(B41)-4)/36)+1,0) -> 2 | D41: ＜発生材処理＞ | K41: =IF(I41="式",#REF!,(IF(J41="","",TRUNC(H41*J41))))
A42: =IF(ROW(B42)/2=INT(ROW(B42)/2),"",1) | B42: =ROUNDDOWN(((ROW(B42)-4)/36)+1,0) -> 2
A43: =IF(ROW(B43)/2=INT(ROW(B43)/2),"",1) -> 1 | B43: =ROUNDDOWN(((ROW(B43)-4)/36)+1,0) -> 2 | D43: 運搬 | H43: 1 | I43: 式
A44: =IF(ROW(B44)/2=INT(ROW(B44)/2),"",1) | B44: =ROUNDDOWN(((ROW(B44)-4)/36)+1,0) -> 2
A45: =IF(ROW(B45)/2=INT(ROW(B45)/2),"",1) -> 1 | B45: =ROUNDDOWN(((ROW(B45)-4)/36)+1,0) -> 2 | D45: 処分 | H45: 1 | I45: 式
A46: =IF(ROW(B46)/2=INT(ROW(B46)/2),"",1) | B46: =ROUNDDOWN(((ROW(B46)-4)/36)+1,0) -> 2
A47: =IF(ROW(B47)/2=INT(ROW(B47)/2),"",1) -> 1 | B47: =ROUNDDOWN(((ROW(B47)-4)/36)+1,0) -> 2
A48: =IF(ROW(B48)/2=INT(ROW(B48)/2),"",1) | B48: =ROUNDDOWN(((ROW(B48)-4)/36)+1,0) -> 2
A49: =IF(ROW(B49)/2=INT(ROW(B49)/2),"",1) -> 1 | B49: =ROUNDDOWN(((ROW(B49)-4)/36)+1,0) -> 2 | D49: 発生材処理の計 | K49: =SUM(K42:K48) -> 0
A50: =IF(ROW(B50)/2=INT(ROW(B50)/2),"",1) | B50: =ROUNDDOWN(((ROW(B50)-4)/36)+1,0) -> 2
A51: =IF(ROW(B51)/2=INT(ROW(B51)/2),"",1) -> 1 | B51: =ROUNDDOWN(((ROW(B51)-4)/36)+1,0) -> 2 | K51: =IF(I51="式",#REF!,(IF(J51="","",TRUNC(H51*J51))))
A52: =IF(ROW(B52)/2=INT(ROW(B52)/2),"",1) | B52: =ROUNDDOWN(((ROW(B52)-4)/36)+1,0) -> 2
A53: =IF(ROW(B53)/2=INT(ROW(B53)/2),"",1) -> 1 | B53: =ROUNDDOWN(((ROW(B53)-4)/36)+1,0) -> 2 | K53: =IF(I53="式",#REF!,(IF(J53="","",TRUNC(H53*J53))))
A54: =IF(ROW(B54)/2=INT(ROW(B54)/2),"",1) | B54: =ROUNDDOWN(((ROW(B54)-4)/36)+1,0) -> 2
A55: =IF(ROW(B55)/2=INT(ROW(B55)/2),"",1) -> 1 | B55: =ROUNDDOWN(((ROW(B55)-4)/36)+1,0) -> 2 | K55: =IF(I55="式",#REF!,(IF(J55="","",TRUNC(H55*J55))))
A56: =IF(ROW(B56)/2=INT(ROW(B56)/2),"",1) | B56: =ROUNDDOWN(((ROW(B56)-4)/36)+1,0) -> 2
A57: =IF(ROW(B57)/2=INT(ROW(B57)/2),"",1) -> 1 | B57: =ROUNDDOWN(((ROW(B57)-4)/36)+1,0) -> 2 | K57: =IF(I57="式",#REF!,(IF(J57="","",TRUNC(H57*J57))))
A58: =IF(ROW(B58)/2=INT(ROW(B58)/2),"",1) | B58: =ROUNDDOWN(((ROW(B58)-4)/36)+1,0) -> 2
A59: =IF(ROW(B59)/2=INT(ROW(B59)/2),"",1) -> 1 | B59: =ROUNDDOWN(((ROW(B59)-4)/36)+1,0) -> 2 | K59: =IF(I59="式",#REF!,(IF(J59="","",TRUNC(H59*J59))))
A60: =IF(ROW(B60)/2=INT(ROW(B60)/2),"",1) | B60: =ROUNDDOWN(((ROW(B60)-4)/36)+1,0) -> 2
A61: =IF(ROW(B61)/2=INT(ROW(B61)/2),"",1) -> 1 | B61: =ROUNDDOWN(((ROW(B61)-4)/36)+1,0) -> 2 | K61: =IF(I61="式",#REF!,(IF(J61="","",TRUNC(H61*J61))))
A62: =IF(ROW(B62)/2=INT(ROW(B62)/2),"",1) | B62: =ROUNDDOWN(((ROW(B62)-4)/36)+1,0) -> 2
A63: =IF(ROW(B63)/2=INT(ROW(B63)/2),"",1) -> 1 | B63: =ROUNDDOWN(((ROW(B63)-4)/36)+1,0) -> 2 | K63: =IF(I63="式",#REF!,(IF(J63="","",TRUNC(H63*J63))))
A64: =IF(ROW(B64)/2=INT(ROW(B64)/2),"",1) | B64: =ROUNDDOWN(((ROW(B64)-4)/36)+1,0) -> 2
A65: =IF(ROW(B65)/2=INT(ROW(B65)/2),"",1) -> 1 | B65: =ROUNDDOWN(((ROW(B65)-4)/36)+1,0) -> 2 | K65: =IF(I65="式",#REF!,(IF(J65="","",TRUNC(H65*J65))))
A66: =IF(ROW(B66)/2=INT(ROW(B66)/2),"",1) | B66: =ROUNDDOWN(((ROW(B66)-4)/36)+1,0) -> 2
A67: =IF(ROW(B67)/2=INT(ROW(B67)/2),"",1) -> 1 | B67: =ROUNDDOWN(((ROW(B67)-4)/36)+1,0) -> 2 | K67: =IF(I67="式",#REF!,(IF(J67="","",TRUNC(H67*J67))))
A68: =IF(ROW(B68)/2=INT(ROW(B68)/2),"",1) | B68: =ROUNDDOWN(((ROW(B68)-4)/36)+1,0) -> 2
A69: =IF(ROW(B69)/2=INT(ROW(B69)/2),"",1) -> 1 | B69: =ROUNDDOWN(((ROW(B69)-4)/36)+1,0) -> 2 | K69: =IF(I69="式",#REF!,(IF(J69="","",TRUNC(H69*J69))))
A70: =IF(ROW(B70)/2=INT(ROW(B70)/2),"",1) | B70: =ROUNDDOWN(((ROW(B70)-4)/36)+1,0) -> 2
A71: =IF(ROW(B71)/2=INT(ROW(B71)/2),"",1) -> 1 | B71: =ROUNDDOWN(((ROW(B71)-4)/36)+1,0) -> 2 | K71: =IF(I71="式",#REF!,(IF(J71="","",TRUNC(H71*J71))))
A72: =IF(ROW(B72)/2=INT(ROW(B72)/2),"",1) | B72: =ROUNDDOWN(((ROW(B72)-4)/36)+1,0) -> 2
A73: =IF(ROW(B73)/2=INT(ROW(B73)/2),"",1) -> 1 | B73: =ROUNDDOWN(((ROW(B73)-4)/36)+1,0) -> 2
A74: =IF(ROW(B74)/2=INT(ROW(B74)/2),"",1) | B74: =ROUNDDOWN(((ROW(B74)-4)/36)+1,0) -> 2
A75: =IF(ROW(B75)/2=INT(ROW(B75)/2),"",1) -> 1 | B75: =ROUNDDOWN(((ROW(B75)-4)/36)+1,0) -> 2 | K75: =IF(I75="式",#REF!,(IF(J75="","",TRUNC(H75*J75))))
A76: =IF(ROW(B76)/2=INT(ROW(B76)/2),"",1) | B76: =ROUNDDOWN(((ROW(B76)-4)/36)+1,0) -> 3
A77: =IF(ROW(B77)/2=INT(ROW(B77)/2),"",1) -> 1 | B77: =ROUNDDOWN(((ROW(B77)-4)/36)+1,0) -> 3 | C77: 2) | D77: 機械設備 | K77: =IF(I77="式",#REF!,(IF(J77="","",TRUNC(H77*J77))))
A78: =IF(ROW(B78)/2=INT(ROW(B78)/2),"",1) | B78: =ROUNDDOWN(((ROW(B78)-4)/36)+1,0) -> 3
A79: =IF(ROW(B79)/2=INT(ROW(B79)/2),"",1) -> 1 | B79: =ROUNDDOWN(((ROW(B79)-4)/36)+1,0) -> 3 | D79: ＜撤去＞ | K79: =IF(I79="式",#REF!,(IF(J79="","",TRUNC(H79*J79))))
A80: =IF(ROW(B80)/2=INT(ROW(B80)/2),"",1) | B80: =ROUNDDOWN(((ROW(B80)-4)/36)+1,0) -> 3
A81: =IF(ROW(B81)/2=INT(ROW(B81)/2),"",1) -> 1 | B81: =ROUNDDOWN(((ROW(B81)-4)/36)+1,0) -> 3 | D81: ＦＲＰ便槽撤去 | H81: 1 | I81: か所 | K81: =IF(I81="式",#REF!,(IF(J81="","",TRUNC(H81*J81))))
A82: =IF(ROW(B82)/2=INT(ROW(B82)/2),"",1) | B82: =ROUNDDOWN(((ROW(B82)-4)/36)+1,0) -> 3
A83: =IF(ROW(B83)/2=INT(ROW(B83)/2),"",1) -> 1 | B83: =ROUNDDOWN(((ROW(B83)-4)/36)+1,0) -> 3 | D83: 大便器撤去 | H83: 1 | I83: か所 | K83: =IF(I83="式",#REF!,(IF(J83="","",TRUNC(H83*J83))))
A84: =IF(ROW(B84)/2=INT(ROW(B84)/2),"",1) | B84: =ROUNDDOWN(((ROW(B84)-4)/36)+1,0) -> 3
A85: =IF(ROW(B85)/2=INT(ROW(B85)/2),"",1) -> 1 | B85: =ROUNDDOWN(((ROW(B85)-4)/36)+1,0) -> 3 | D85: 小便器撤去 | H85: 1 | I85: か所 | K85: =IF(I85="式",#REF!,(IF(J85="","",TRUNC(H85*J85))))
A86: =IF(ROW(B86)/2=INT(ROW(B86)/2),"",1) | B86: =ROUNDDOWN(((ROW(B86)-4)/36)+1,0) -> 3
A87: =IF(ROW(B87)/2=INT(ROW(B87)/2),"",1) -> 1 | B87: =ROUNDDOWN(((ROW(B87)-4)/36)+1,0) -> 3 | D87: 手洗器撤去 | H87: 1 | I87: か所 | K87: =IF(I87="式",#REF!,(IF(J87="","",TRUNC(H87*J87))))
A88: =IF(ROW(B88)/2=INT(ROW(B88)/2),"",1) | B88: =ROUNDDOWN(((ROW(B88)-4)/36)+1,0) -> 3
A89: =IF(ROW(B89)/2=INT(ROW(B89)/2),"",1) -> 1 | B89: =ROUNDDOWN(((ROW(B89)-4)/36)+1,0) -> 3 | D89: 瞬間湯沸器撤去 | H89: 1 | I89: か所 | K89: =IF(I89="式",#REF!,(IF(J89="","",TRUNC(H89*J89))))
A90: =IF(ROW(B90)/2=INT(ROW(B90)/2),"",1) | B90: =ROUNDDOWN(((ROW(B90)-4)/36)+1,0) -> 3
A91: =IF(ROW(B91)/2=INT(ROW(B91)/2),"",1) -> 1 | B91: =ROUNDDOWN(((ROW(B91)-4)/36)+1,0) -> 3 | D91: 給水栓撤去 | H91: 1 | I91: か所 | K91: =IF(I91="式",#REF!,(IF(J91="","",TRUNC(H91*J91))))
A92: =IF(ROW(B92)/2=INT(ROW(B92)/2),"",1) | B92: =ROUNDDOWN(((ROW(B92)-4)/36)+1,0) -> 3
A93: =IF(ROW(B93)/2=INT(ROW(B93)/2),"",1) -> 1 | B93: =ROUNDDOWN(((ROW(B93)-4)/36)+1,0) -> 3 | D93: ガス栓撤去 | H93: 1 | I93: か所 | K93: =IF(I93="式",#REF!,(IF(J93="","",TRUNC(H93*J93))))
A94: =IF(ROW(B94)/2=INT(ROW(B94)/2),"",1) | B94: =ROUNDDOWN(((ROW(B94)-4)/36)+1,0) -> 3
A95: =IF(ROW(B95)/2=INT(ROW(B95)/2),"",1) -> 1 | B95: =ROUNDDOWN(((ROW(B95)-4)/36)+1,0) -> 3 | D95: 散水栓ＢＯＸ撤去 | H95: 1 | I95: か所 | K95: =IF(I95="式",#REF!,(IF(J95="","",TRUNC(H95*J95))))
A96: =IF(ROW(B96)/2=INT(ROW(B96)/2),"",1) | B96: =ROUNDDOWN(((ROW(B96)-4)/36)+1,0) -> 3
A97: =IF(ROW(B97)/2=INT(ROW(B97)/2),"",1) -> 1 | B97: =ROUNDDOWN(((ROW(B97)-4)/36)+1,0) -> 3 | D97: 立水栓撤去 | H97: 1 | I97: か所 | K97: =IF(I97="式",#REF!,(IF(J97="","",TRUNC(H97*J97))))
A98: =IF(ROW(B98)/2=INT(ROW(B98)/2),"",1) | B98: =ROUNDDOWN(((ROW(B98)-4)/36)+1,0) -> 3
A99: =IF(ROW(B99)/2=INT(ROW(B99)/2),"",1) -> 1 | B99: =ROUNDDOWN(((ROW(B99)-4)/36)+1,0) -> 3 | D99: メーターＢＯＸ撤去 | H99: 1 | I99: か所 | K99: =IF(I99="式",#REF!,(IF(J99="","",TRUNC(H99*J99))))
A100: =IF(ROW(B100)/2=INT(ROW(B100)/2),"",1) | B100: =ROUNDDOWN(((ROW(B100)-4)/36)+1,0) -> 3
A101: =IF(ROW(B101)/2=INT(ROW(B101)/2),"",1) -> 1 | B101: =ROUNDDOWN(((ROW(B101)-4)/36)+1,0) -> 3 | D101: 仕切弁ＢＯＸ撤去 | H101: 1 | I101: か所 | K101: =IF(I101="式",#REF!,(IF(J101="","",TRUNC(H101*J101))))
A102: =IF(ROW(B102)/2=INT(ROW(B102)/2),"",1) | B102: =ROUNDDOWN(((ROW(B102)-4)/36)+1,0) -> 3
A103: =IF(ROW(B103)/2=INT(ROW(B103)/2),"",1) -> 1 | B103: =ROUNDDOWN(((ROW(B103)-4)/36)+1,0) -> 3 | D103: 止水栓ＢＯＸ撤去 | H103: 1 | I103: か所 | K103: =IF(I103="式",#REF!,(IF(J103="","",TRUNC(H103*J103))))
A104: =IF(ROW(B104)/2=INT(ROW(B104)/2),"",1) | B104: =ROUNDDOWN(((ROW(B104)-4)/36)+1,0) -> 3
...

Sheet 細目別内訳（外構）
C2: 記号 | D2: 名 称 | F2: 摘 要 | H2: 数 量 | I2: 単位 | J2: 単 価 | K2: 金 額 | L2: 備 考
A4: =IF(ROW(B4)/2=INT(ROW(B4)/2),"",1) | B4: =ROUNDDOWN(((ROW(B4)-4)/36)+1,0) -> 1
A5: =IF(ROW(B5)/2=INT(ROW(B5)/2),"",1) -> 1 | B5: =ROUNDDOWN(((ROW(B5)-4)/36)+1,0) -> 1 | C5: A-3 | D5: 撤去跡地整備
A6: =IF(ROW(B6)/2=INT(ROW(B6)/2),"",1) | B6: =ROUNDDOWN(((ROW(B6)-4)/36)+1,0) -> 1
A7: =IF(ROW(B7)/2=INT(ROW(B7)/2),"",1) -> 1 | B7: =ROUNDDOWN(((ROW(B7)-4)/36)+1,0) -> 1
A8: =IF(ROW(B8)/2=INT(ROW(B8)/2),"",1) | B8: =ROUNDDOWN(((ROW(B8)-4)/36)+1,0) -> 1
A9: =IF(ROW(B9)/2=INT(ROW(B9)/2),"",1) -> 1 | B9: =ROUNDDOWN(((ROW(B9)-4)/36)+1,0) -> 1 | D9: アスファルト舗装 | F9: 密粒ｱｽｺﾝｔ＝30、ｸﾗｯｼｬｰﾗﾝｔ＝100 | H9: 168 | I9: ｍ2 | K9: =IF(I9="式",#REF!,(IF(J9="","",TRUNC(H9*J9))))
A10: =IF(ROW(B10)/2=INT(ROW(B10)/2),"",1) | B10: =ROUNDDOWN(((ROW(B10)-4)/36)+1,0) -> 1
A11: =IF(ROW(B11)/2=INT(ROW(B11)/2),"",1) -> 1 | B11: =ROUNDDOWN(((ROW(B11)-4)/36)+1,0) -> 1 | K11: =IF(I11="式",#REF!,(IF(J11="","",TRUNC(H11*J11))))
A12: =IF(ROW(B12)/2=INT(ROW(B12)/2),"",1) | B12: =ROUNDDOWN(((ROW(B12)-4)/36)+1,0) -> 1
A13: =IF(ROW(B13)/2=INT(ROW(B13)/2),"",1) -> 1 | B13: =ROUNDDOWN(((ROW(B13)-4)/36)+1,0) -> 1 | K13: =IF(I13="式",#REF!,(IF(J13="","",TRUNC(H13*J13))))
A14: =IF(ROW(B14)/2=INT(ROW(B14)/2),"",1) | B14: =ROUNDDOWN(((ROW(B14)-4)/36)+1,0) -> 1
A15: =IF(ROW(B15)/2=INT(ROW(B15)/2),"",1) -> 1 | B15: =ROUNDDOWN(((ROW(B15)-4)/36)+1,0) -> 1
A16: =IF(ROW(B16)/2=INT(ROW(B16)/2),"",1) | B16: =ROUNDDOWN(((ROW(B16)-4)/36)+1,0) -> 1
A17: =IF(ROW(B17)/2=INT(ROW(B17)/2),"",1) -> 1 | B17: =ROUNDDOWN(((ROW(B17)-4)/36)+1,0) -> 1
A18: =IF(ROW(B18)/2=INT(ROW(B18)/2),"",1) | B18: =ROUNDDOWN(((ROW(B18)-4)/36)+1,0) -> 1
A19: =IF(ROW(B19)/2=INT(ROW(B19)/2),"",1) -> 1 | B19: =ROUNDDOWN(((ROW(B19)-4)/36)+1,0) -> 1 | K19: =IF(I19="式",#REF!,(IF(J19="","",TRUNC(H19*J19))))
A20: =IF(ROW(B20)/2=INT(ROW(B20)/2),"",1) | B20: =ROUNDDOWN(((ROW(B20)-4)/36)+1,0) -> 1
A21: =IF(ROW(B21)/2=INT(ROW(B21)/2),"",1) -> 1 | B21: =ROUNDDOWN(((ROW(B21)-4)/36)+1,0) -> 1 | K21: =IF(I21="式",#REF!,(IF(J21="","",TRUNC(H21*J21))))
A22: =IF(ROW(B22)/2=INT(ROW(B22)/2),"",1) | B22: =ROUNDDOWN(((ROW(B22)-4)/36)+1,0) -> 1
A23: =IF(ROW(B23)/2=INT(ROW(B23)/2),"",1) -> 1 | B23: =ROUNDDOWN(((ROW(B23)-4)/36)+1,0) -> 1 | K23: =IF(I23="式",#REF!,(IF(J23="","",TRUNC(H23*J23))))
A24: =IF(ROW(B24)/2=INT(ROW(B24)/2),"",1) | B24: =ROUNDDOWN(((ROW(B24)-4)/36)+1,0) -> 1
A25: =IF(ROW(B25)/2=INT(ROW(B25)/2),"",1) -> 1 | B25: =ROUNDDOWN(((ROW(B25)-4)/36)+1,0) -> 1 | K25: =IF(I25="式",#REF!,(IF(J25="","",TRUNC(H25*J25))))
A26: =IF(ROW(B26)/2=INT(ROW(B26)/2),"",1) | B26: =ROUNDDOWN(((ROW(B26)-4)/36)+1,0) -> 1
A27: =IF(ROW(B27)/2=INT(ROW(B27)/2),"",1) -> 1 | B27: =ROUNDDOWN(((ROW(B27)-4)/36)+1,0) -> 1 | K27: =IF(I27="式",#REF!,(IF(J27="","",TRUNC(H27*J27))))
A28: =IF(ROW(B28)/2=INT(ROW(B28)/2),"",1) | B28: =ROUNDDOWN(((ROW(B28)-4)/36)+1,0) -> 1
A29: =IF(ROW(B29)/2=INT(ROW(B29)/2),"",1) -> 1 | B29: =ROUNDDOWN(((ROW(B29)-4)/36)+1,0) -> 1 | K29: =IF(I29="式",#REF!,(IF(J29="","",TRUNC(H29*J29))))
A30: =IF(ROW(B30)/2=INT(ROW(B30)/2),"",1) | B30: =ROUNDDOWN(((ROW(B30)-4)/36)+1,0) -> 1
A31: =IF(ROW(B31)/2=INT(ROW(B31)/2),"",1) -> 1 | B31: =ROUNDDOWN(((ROW(B31)-4)/36)+1,0) -> 1 | K31: =IF(I31="式",#REF!,(IF(J31="","",TRUNC(H31*J31))))
A32: =IF(ROW(B32)/2=INT(ROW(B32)/2),"",1) | B32: =ROUNDDOWN(((ROW(B32)-4)/36)+1,0) -> 1
A33: =IF(ROW(B33)/2=INT(ROW(B33)/2),"",1) -> 1 | B33: =ROUNDDOWN(((ROW(B33)-4)/36)+1,0) -> 1 | K33: =IF(I33="式",#REF!,(IF(J33="","",TRUNC(H33*J33))))
A34: =IF(ROW(B34)/2=INT(ROW(B34)/2),"",1) | B34: =ROUNDDOWN(((ROW(B34)-4)/36)+1,0) -> 1
A35: =IF(ROW(B35)/2=INT(ROW(B35)/2),"",1) -> 1 | B35: =ROUNDDOWN(((ROW(B35)-4)/36)+1,0) -> 1 | K35: =IF(I35="式",#REF!,(IF(J35="","",TRUNC(H35*J35))))
A36: =IF(ROW(B36)/2=INT(ROW(B36)/2),"",1) | B36: =ROUNDDOWN(((ROW(B36)-4)/36)+1,0) -> 1
A37: =IF(ROW(B37)/2=INT(ROW(B37)/2),"",1) -> 1 | B37: =ROUNDDOWN(((ROW(B37)-4)/36)+1,0) -> 1 | D37: 計 | K37: =SUM(K8:K36) -> 0
A38: =IF(ROW(B38)/2=INT(ROW(B38)/2),"",1) | B38: =ROUNDDOWN(((ROW(B38)-4)/36)+1,0) -> 1
A39: =IF(ROW(B39)/2=INT(ROW(B39)/2),"",1) -> 1 | B39: =ROUNDDOWN(((ROW(B39)-4)/36)+1,0) -> 1 | K39: =IF(I39="式",#REF!,(IF(J39="","",TRUNC(H39*J39))))
A40: =IF(ROW(B40)/2=INT(ROW(B40)/2),"",1) | B40: =ROUNDDOWN(((ROW(B40)-4)/36)+1,0) -> 2
A41: =IF(ROW(B41)/2=INT(ROW(B41)/2),"",1) -> 1 | B41: =ROUNDDOWN(((ROW(B41)-4)/36)+1,0) -> 2
