Workbook
Name _: [1]実験研究棟細目!#REF!
Name _: [1]実験研究棟細目!#REF!
Name _: [1]実験研究棟細目!#REF!
Name _: [1]実験研究棟細目!#REF!
Name _1号様式印刷: #REF!
Name _1号様式印刷: #REF!
Name _1号様式印刷: #REF!
Name _1号様式印刷: #REF!
Name _1号様式印刷: #REF!
Name _1号様式印刷: #REF!
Name _2号様式: #REF!
Name _2号様式: #REF!
Name _2号様式: #REF!
Name _2号様式: #REF!
Name _2号様式: #REF!
Name _2号様式: #REF!
Name _600V_CV: #REF!
Name _600V_CV: #REF!
Name _600V_CV: #REF!
Name _600V_CV: #REF!
Name _600V_CV: #REF!
Name _600V_CV: #REF!
Name \0: #REF!
Name \0: #REF!
Name \0: #REF!
Name \0: #REF!
Name \0: #REF!
Name \A: #REF!
Name \A: #REF!
Name \A: #REF!
Name \A: #REF!
Name \A: #REF!
Name \C: #REF!
Name \C: #REF!
Name \C: #REF!
Name \C: #REF!
Name \C: #REF!
Name \D: #REF!
Name \D: #REF!
Name \D: #REF!
Name \D: #REF!
Name \D: #REF!
Name \G: #REF!
Name \G: #REF!
Name \G: #REF!
Name \G: #REF!
Name \G: #REF!
Name \I: #REF!
Name \I: #REF!
Name \I: #REF!
Name \I: #REF!
Name \I: #REF!
Name \J: #REF!
Name \J: #REF!
Name \J: #REF!
Name \J: #REF!
Name \J: #REF!
Name \K: #REF!
Name \K: #REF!
Name \K: #REF!

Sheet 表紙
O2: 消防本部
B7: （金抜き）
I12: 令和 | N12: 8 | R12: 年度 | AB12: 消第 | AG12: 08028 | AO12: 号
I15: 高知県香南市 | W15: 香我美町徳王子
BS18: 実 施
E19: 旧徳王子屯所解体工事 | CG19: 設計書
BS20: 第1回変更
I28: 施行方法
P29: （請負） | W29: 直営
I30: 工事日数
P31: 90 | W31: 日
I32: 完成期限
P33: 46413 | CD33: 設計者
I35: 46283 | Y35: 作成
I37: 令和 年 月 日 | Y37: 決裁

Sheet 工事概要
D3: 工事概要
H5: 延べ床面積： 旧徳王子屯所 99.90㎡
V6: 一式
D25: 起工（又は変更）理由
D34: 請負対象金額 | AV34: 設計金額
N35: 消費税込み金額 | AC35: 消費税抜き金額 | BF35: 消費税込み金額 | BU35: 消費税抜き金額
N36: =N38 -> 0 | AC36: =AC38 -> 0 | BF36: =BF38 -> 0 | BU36: =BU38 -> 0
D37: 事業費 | Z37: 円 | AO37: 円 | BR37: 円 | CG37: 円
N38: =AC38*1.1 -> 0 | BF38: =BU38*1.1 -> 0
D39: 請負対象金額 | Z39: 円 | AO39: 円 | AV39: 設計金額 | BR39: 円 | CG39: 円
D41: その他 | Z41: 円 | AO41: 円 | AV41: その他 | BR41: 円 | CG41: 円

Sheet 種目別内訳
E1: 金 | G1: =I38 -> 0 | I1: 円
E3: （ 工事価格 金 | G3: =I30 -> 0 | I3: 円）
C4: （種目別内訳）
B5: 記号 | C5: 名 称 | D5: 摘 要 | G5: 数 量 | H5: 単位 | I5: 金 額 | K5: 備 考 | M5: 変 更 設 計 | R5: 単 価 | S5: 金 額 | T5: 備 考
M6: 数量 | N6: 単 価 | O6: 金 額 | P6: 差引金額 | Q6: 備 考
A7: =ROUNDDOWN(((ROW(A7)-3)/36)+1,0) -> 1 | O7: =ROUNDDOWN(M7*N7,0) -> 0 | P7: =O7-J7 -> 0
A8: =ROUNDDOWN(((ROW(A8)-3)/36)+1,0) -> 1 | C8: 直接工事費
A9: =ROUNDDOWN(((ROW(A9)-3)/36)+1,0) -> 1 | O9: =ROUNDDOWN(M9*N9,0) -> 0 | P9: =O9-J19 -> 0
A10: =ROUNDDOWN(((ROW(A10)-3)/36)+1,0) -> 1 | B10: Ａ | C10: 直接工事 | I10: =科目別内訳!I35 -> 0
A11: =ROUNDDOWN(((ROW(A11)-3)/36)+1,0) -> 1
A12: =ROUNDDOWN(((ROW(A12)-3)/36)+1,0) -> 1
A13: =ROUNDDOWN(((ROW(A13)-3)/36)+1,0) -> 1
A14: =ROUNDDOWN(((ROW(A14)-3)/36)+1,0) -> 1
A15: =ROUNDDOWN(((ROW(A15)-3)/36)+1,0) -> 1
A16: =ROUNDDOWN(((ROW(A16)-3)/36)+1,0) -> 1 | C16: 計 | I16: =SUM(I8:I15) -> 0
A17: =ROUNDDOWN(((ROW(A17)-3)/36)+1,0) -> 1 | O17: =ROUNDDOWN(M17*N17,0) -> 0 | P17: =O17-J17 -> 0
A18: =ROUNDDOWN(((ROW(A18)-3)/36)+1,0) -> 1
A19: =ROUNDDOWN(((ROW(A19)-3)/36)+1,0) -> 1 | O19: =ROUNDDOWN(M19*N19,0) -> 0 | P19: =O19-#REF! -> #REF!
A20: =ROUNDDOWN(((ROW(A20)-3)/36)+1,0) -> 1 | C20: 共通費
A21: =ROUNDDOWN(((ROW(A21)-3)/36)+1,0) -> 1 | O21: =ROUNDDOWN(M21*N21,0) -> 0 | P21: =O21-J21 -> 0
A22: =ROUNDDOWN(((ROW(A22)-3)/36)+1,0) -> 1 | B22: Ⅰ | C22: 共通仮設費 | G22: 1 | H22: 式
A23: =ROUNDDOWN(((ROW(A23)-3)/36)+1,0) -> 1
A24: =ROUNDDOWN(((ROW(A24)-3)/36)+1,0) -> 1 | B24: Ⅱ | C24: 現場管理費 | G24: 1 | H24: 式
A25: =ROUNDDOWN(((ROW(A25)-3)/36)+1,0) -> 1 | L25: 調整前 | O25: =ROUNDDOWN(M25*N25,0) -> 0 | P25: =O25-J25 -> 0
A26: =ROUNDDOWN(((ROW(A26)-3)/36)+1,0) -> 1 | B26: Ⅲ | C26: 一般管理費等 | E26: 契約保証費含む | G26: 1 | H26: 式
A27: =ROUNDDOWN(((ROW(A27)-3)/36)+1,0) -> 1 | O27: =ROUNDDOWN(M27*N27,0) -> 0 | P27: =O27-J27 -> 0
A28: =ROUNDDOWN(((ROW(A28)-3)/36)+1,0) -> 1 | C28: 計 | I28: =SUM(I22:J26) -> 0
A29: =ROUNDDOWN(((ROW(A29)-3)/36)+1,0) -> 1 | O29: =ROUNDDOWN(M29*N29,0) -> 0 | P29: =O29-J29 -> 0
A30: =ROUNDDOWN(((ROW(A30)-3)/36)+1,0) -> 1 | C30: 合計 | I30: =I16+I28 -> 0
A31: =ROUNDDOWN(((ROW(A31)-3)/36)+1,0) -> 1 | O31: =ROUNDDOWN(M31*N31,0) -> 0 | P31: =O31-J31 -> 0
A32: =ROUNDDOWN(((ROW(A32)-3)/36)+1,0) -> 1
A33: =ROUNDDOWN(((ROW(A33)-3)/36)+1,0) -> 1 | O33: =ROUNDDOWN(M33*N33,0) -> 0 | P33: =O33-J33 -> 0
A34: =ROUNDDOWN(((ROW(A34)-3)/36)+1,0) -> 1 | C34: 消費税等相当額 | G34: 1 | H34: 式 | I34: =I30*0.1 -> 0
A35: =ROUNDDOWN(((ROW(A35)-3)/36)+1,0) -> 1
A36: =ROUNDDOWN(((ROW(A36)-3)/36)+1,0) -> 1
A37: =ROUNDDOWN(((ROW(A37)-3)/36)+1,0) -> 1 | O37: =ROUNDDOWN(M37*N37,0) -> 0 | P37: =O37-J37 -> 0
A38: =ROUNDDOWN(((ROW(A38)-3)/36)+1,0) -> 1 | C38: 総合計（工事費） | I38: =I30+I34 -> 0

Sheet 科目別内訳
B2: 記号 | C2: 名 称 | E2: 摘 要 | G2: 数 量 | H2: 単位 | I2: 金 額 | K2: 備 考
A4: =ROUNDDOWN(((ROW(A4)-4)/36)+1,0) -> 1
A5: =ROUNDDOWN(((ROW(A5)-4)/36)+1,0) -> 1 | B5: Ａ | C5: 直接工事
A6: =ROUNDDOWN(((ROW(A6)-4)/36)+1,0) -> 1
A7: =ROUNDDOWN(((ROW(A7)-4)/36)+1,0) -> 1
A8: =ROUNDDOWN(((ROW(A8)-4)/36)+1,0) -> 1
A9: =ROUNDDOWN(((ROW(A9)-4)/36)+1,0) -> 1 | B9: A-1 | C9: 直接仮設 | G9: 1 | H9: 式 | I9: ='細目別内訳（建築）'!K37 -> 0
A10: =ROUNDDOWN(((ROW(A10)-4)/36)+1,0) -> 1
A11: =ROUNDDOWN(((ROW(A11)-4)/36)+1,0) -> 1 | B11: A-2 | C11: 解体撤去 | G11: 1 | H11: 式 | I11: =中科目別内訳!I37 -> 0
A12: =ROUNDDOWN(((ROW(A12)-4)/36)+1,0) -> 1
A13: =ROUNDDOWN(((ROW(A13)-4)/36)+1,0) -> 1 | B13: A-3 | C13: 撤去跡地整備 | G13: 1 | H13: 式 | I13: ='細目別内訳（外構）'!K37 -> 0
A16: =ROUNDDOWN(((ROW(A16)-4)/36)+1,0) -> 1
A17: =ROUNDDOWN(((ROW(A17)-4)/36)+1,0) -> 1
A18: =ROUNDDOWN(((ROW(A18)-4)/36)+1,0) -> 1
A19: =ROUNDDOWN(((ROW(A19)-4)/36)+1,0) -> 1
A20: =ROUNDDOWN(((ROW(A20)-4)/36)+1,0) -> 1
A21: =ROUNDDOWN(((ROW(A21)-4)/36)+1,0) -> 1
A22: =ROUNDDOWN(((ROW(A22)-4)/36)+1,0) -> 1
A23: =ROUNDDOWN(((ROW(A23)-4)/36)+1,0) -> 1
A24: =ROUNDDOWN(((ROW(A24)-4)/36)+1,0) -> 1
A25: =ROUNDDOWN(((ROW(A25)-4)/36)+1,0) -> 1
A26: =ROUNDDOWN(((ROW(A26)-4)/36)+1,0) -> 1
A27: =ROUNDDOWN(((ROW(A27)-4)/36)+1,0) -> 1
... A34: =ROUNDDOWN(((ROW(A34)-4)/36)+1,0) -> 1
A35: =ROUNDDOWN(((ROW(A35)-4)/36)+1,0) -> 1 | C35: 計 | I35: =SUM(I9:I34) -> 0
A36: =ROUNDDOWN(((ROW(A36)-4)/36)+1,0) -> 1
A37: =ROUNDDOWN(((ROW(A37)-4)/36)+1,0) -> 1
A38: =ROUNDDOWN(((ROW(A38)-4)/36)+1,0) -> 1
A39: =ROUNDDOWN(((ROW(A39)-4)/36)+1,0) -> 1

Sheet 中科目別内訳
B2: 記号 | C2: 科 目 名 称 | E2: 中 科 目 名 称 | G2: 数 量 | H2: 単位 | I2: 金 額 | J2: 備 考
A4: =ROUNDDOWN(((ROW(A4)-4)/36)+1,0) -> 1
A5: =ROUNDDOWN(((ROW(A5)-4)/36)+1,0) -> 1 | B5: A-2 | C5: 解体撤去
A6: =ROUNDDOWN(((ROW(A6)-4)/36)+1,0) -> 1
A7: =ROUNDDOWN(((ROW(A7)-4)/36)+1,0) -> 1 | C7: （1）建築 | E7: 解体撤去 | G7: 1 | H7: 式 | I7: ='細目別内訳（建築）'!K73 -> 0
A8: =ROUNDDOWN(((ROW(A8)-4)/36)+1,0) -> 1
A9: =ROUNDDOWN(((ROW(A9)-4)/36)+1,0) -> 1 | E9: 発生材処理 | G9: 1 | H9: 式 | I9: ='細目別内訳（建築）'!K145 -> 0
A10: =ROUNDDOWN(((ROW(A10)-4)/36)+1,0) -> 1
A11: =ROUNDDOWN(((ROW(A11)-4)/36)+1,0) -> 1 | C11: 計 | I11: =SUM(I6:I10) -> 0
A12: =ROUNDDOWN(((ROW(A12)-4)/36)+1,0) -> 1
A13: =ROUNDDOWN(((ROW(A13)-4)/36)+1,0) -> 1
A14: =ROUNDDOWN(((ROW(A14)-4)/36)+1,0) -> 1
A15: =ROUNDDOWN(((ROW(A15)-4)/36)+1,0) -> 1 | C15: (2) 電気 | E15: 撤去 | G15: 1 | H15: 式 | I15: ='細目別内訳（設備）'!K37 -> 0
A16: =ROUNDDOWN(((ROW(A16)-4)/36)+1,0) -> 1
A17: =ROUNDDOWN(((ROW(A17)-4)/36)+1,0) -> 1 | E17: 発生材処理 | G17: 1 | H17: 式 | I17: ='細目別内訳（設備）'!K49 -> 0
A18: =ROUNDDOWN(((ROW(A18)-4)/36)+1,0) -> 1
A19: =ROUNDDOWN(((ROW(A19)-4)/36)+1,0) -> 1 | C19: 計 | I19: =SUM(I12:I18) -> 0
A20: =ROUNDDOWN(((ROW(A20)-4)/36)+1,0) -> 1
A21: =ROUNDDOWN(((ROW(A21)-4)/36)+1,0) -> 1
A22: =ROUNDDOWN(((ROW(A22)-4)/36)+1,0) -> 1
A23: =ROUNDDOWN(((ROW(A23)-4)/36)+1,0) -> 1 | C23: (3) 機械 | E23: 撤去 | G23: 1 | H23: 式 | I23: ='細目別内訳（設備）'!K111 -> 0
A24: =ROUNDDOWN(((ROW(A24)-4)/36)+1,0) -> 1
A25: =ROUNDDOWN(((ROW(A25)-4)/36)+1,0) -> 1 | E25: 発生材処理 | G25: 1 | H25: 式 | I25: ='細目別内訳（設備）'!K123 -> 0
A26: =ROUNDDOWN(((ROW(A26)-4)/36)+1,0) -> 1
A27: =ROUNDDOWN(((ROW(A27)-4)/36)+1,0) -> 1 | C27: 計 | I27: =SUM(I22:I26) -> 0
A28: =ROUNDDOWN(((ROW(A28)-4)/36)+1,0) -> 1
A29: =ROUNDDOWN(((ROW(A29)-4)/36)+1,0) -> 1
A30: =ROUNDDOWN(((ROW(A30)-4)/36)+1,0) -> 1
A31: =ROUNDDOWN(((ROW(A31)-4)/36)+1,0) -> 1
A32: =ROUNDDOWN(((ROW(A32)-4)/36)+1,0) -> 1
A33: =ROUNDDOWN(((ROW(A33)-4)/36)+1,0) -> 1
A34: =ROUNDDOWN(((ROW(A34)-4)/36)+1,0) -> 1
A35: =ROUNDDOWN(((ROW(A35)-4)/36)+1,0) -> 1
A36: =ROUNDDOWN(((ROW(A36)-4)/36)+1,0) -> 1
A37: =ROUNDDOWN(((ROW(A37)-4)/36)+1,0) -> 1 | C37: 計 | I37: =I11+I19+I27 -> 0
A38: =ROUNDDOWN(((ROW(A38)-4)/36)+1,0) -> 1
A39: =ROUNDDOWN(((ROW(A39)-4)/36)+1,0) -> 1 | I39: =SUM(I38:I38) -> 0
A40: =ROUNDDOWN(((ROW(A40)-4)/36)+1,0) -> 2
A41: =ROUNDDOWN(((ROW(A41)-4)/36)+1,0) -> 2

Sheet 細目別内訳（建築）
C2: 記号 | D2: 名 称 | F2: 摘 要 | H2: 数 量 | I2: 単位 | J2: 単 価 | K2: 金 額 | L2: 備 考
C5: -1 | D5: 直接仮設
A6: =IF(ROW(B6)/2=INT(ROW(B6)/2),"",1) | B6: =ROUNDDOWN(((ROW(B6)-4)/36)+1,0) -> 1
A7: =IF(ROW(B7)/2=INT(ROW(B7)/2),"",1) -> 1 | B7: =ROUNDDOWN(((ROW(B7)-4)/36)+1,0) -> 1 | K7: =IF(I7="式",#REF!,(IF(J7="","",TRUNC(H7*J7))))
A8: =IF(ROW(B8)/2=INT(ROW(B8)/2),"",1) | B8: =ROUNDDOWN(((ROW(B8)-4)/36)+1,0) -> 1
A9: =IF(ROW(B9)/2=INT(ROW(B9)/2),"",1) -> 1 | B9: =ROUNDDOWN(((ROW(B9)-4)/36)+1,0) -> 1 | D9: 外部足場 | H9: 1 | I9: 式 | J9: =IF(I9="式","",#REF!) | M9: 別紙明細－4
A10: =IF(ROW(B10)/2=INT(ROW(B10)/2),"",1) | B10: =ROUNDDOWN(((ROW(B10)-4)/36)+1,0) -> 1
A11: =IF(ROW(B11)/2=INT(ROW(B11)/2),"",1) -> 1 | B11: =ROUNDDOWN(((ROW(B11)-4)/36)+1,0) -> 1
A12: =IF(ROW(B12)/2=INT(ROW(B12)/2),"",1) | B12: =ROUNDDOWN(((ROW(B12)-4)/36)+1,0) -> 1
A13: =IF(ROW(B13)/2=INT(ROW(B13)/2),"",1) -> 1 | B13: =ROUNDDOWN(((ROW(B13)-4)/36)+1,0) -> 1
A14: =IF(ROW(B14)/2=INT(ROW(B14)/2),"",1) | B14: =ROUNDDOWN(((ROW(B14)-4)/36)+1,0) -> 1
A15: =IF(ROW(B15)/2=INT(ROW(B15)/2),"",1) -> 1 | B15: =ROUNDDOWN(((ROW(B15)-4)/36)+1,0) -> 1
A16: =IF(ROW(B16)/2=INT(ROW(B16)/2),"",1) | B16: =ROUNDDOWN(((ROW(B16)-4)/36)+1,0) -> 1
A17: =IF(ROW(B17)/2=INT(ROW(B17)/2),"",1) -> 1 | B17: =ROUNDDOWN(((ROW(B17)-4)/36)+1,0) -> 1
A18: =IF(ROW(B18)/2=INT(ROW(B18)/2),"",1) | B18: =ROUNDDOWN(((ROW(B18)-4)/36)+1,0) -> 1
A19: =IF(ROW(B19)/2=INT(ROW(B19)/2),"",1) -> 1 | B19: =ROUNDDOWN(((ROW(B19)-4)/36)+1,0) -> 1
A22: =IF(ROW(B22)/2=INT(ROW(B22)/2),"",1) | B22: =ROUNDDOWN(((ROW(B22)-4)/36)+1,0) -> 1
A23: =IF(ROW(B23)/2=INT(ROW(B23)/2),"",1) -> 1 | B23: =ROUNDDOWN(((ROW(B23)-4)/36)+1,0) -> 1
... A36: =IF(ROW(B36)/2=INT(ROW(B36)/2),"",1) | B36: =ROUNDDOWN(((ROW(B36)-4)/36)+1,0) -> 1
A37: =IF(ROW(B37)/2=INT(ROW(B37)/2),"",1) -> 1 | B37: =ROUNDDOWN(((ROW(B37)-4)/36)+1,0) -> 1 | D37: 計 | K37: =SUM(K8:K36) -> 0
A38: =IF(ROW(B38)/2=INT(ROW(B38)/2),"",1) | B38: =ROUNDDOWN(((ROW(B38)-4)/36)+1,0) -> 1
A39: =IF(ROW(B39)/2=INT(ROW(B39)/2),"",1) -> 1 | B39: =ROUNDDOWN(((ROW(B39)-4)/36)+1,0) -> 1
A40: =IF(ROW(B40)/2=INT(ROW(B40)/2),"",1) | B40: =ROUNDDOWN(((ROW(B40)-4)/36)+1,0) -> 2
A41: =IF(ROW(B41)/2=INT(ROW(B41)/2),"",1) -> 1 | B41: =ROUNDDOWN(((ROW(B41)-4)/36)+1,0) -> 2 | C41: -2 | D41: 解体撤去
A42: =IF(ROW(B42)/2=INT(ROW(B42)/2),"",1) | B42: =ROUNDDOWN(((ROW(B42)-4)/36)+1,0) -> 2
A43: =IF(ROW(B43)/2=INT(ROW(B43)/2),"",1) -> 1 | B43: =ROUNDDOWN(((ROW(B43)-4)/36)+1,0) -> 2
A44: =IF(ROW(B44)/2=INT(ROW(B44)/2),"",1) | B44: =ROUNDDOWN(((ROW(B44)-4)/36)+1,0) -> 2
A45: =IF(ROW(B45)/2=INT(ROW(B45)/2),"",1) -> 1 | B45: =ROUNDDOWN(((ROW(B45)-4)/36)+1,0) -> 2 | D45: 上屋解体撤去 | F45: 木造平屋・スレート瓦葺き | H45: 99.9 | I45: ｍ2 | K45: =IF(I45="式",#REF!,(IF(J45="","",TRUNC(H45*J45))))
A46: =IF(ROW(B46)/2=INT(ROW(B46)/2),"",1) | B46: =ROUNDDOWN(((ROW(B46)-4)/36)+1,0) -> 2
A47: =IF(ROW(B47)/2=INT(ROW(B47)/2),"",1) -> 1 | B47: =ROUNDDOWN(((ROW(B47)-4)/36)+1,0) -> 2 | D47: 基礎コンクリート撤去 | H47: 9.1 | I47: ｍ3 | K47: =IF(I47="式",#REF!,(IF(J47="","",TRUNC(H47*J47))))
A48: =IF(ROW(B48)/2=INT(ROW(B48)/2),"",1) | B48: =ROUNDDOWN(((ROW(B48)-4)/36)+1,0) -> 2
A49: =IF(ROW(B49)/2=INT(ROW(B49)/2),"",1) -> 1 | B49: =ROUNDDOWN(((ROW(B49)-4)/36)+1,0) -> 2 | D49: 土間コンクリート撤去 | H49: 11.3 | I49: ｍ3 | K49: =IF(I49="式",#REF!,(IF(J49="","",TRUNC(H49*J49))))
A50: =IF(ROW(B50)/2=INT(ROW(B50)/2),"",1) | B50: =ROUNDDOWN(((ROW(B50)-4)/36)+1,0) -> 2
A51: =IF(ROW(B51)/2=INT(ROW(B51)/2),"",1) -> 1 | B51: =ROUNDDOWN(((ROW(B51)-4)/36)+1,0) -> 2 | D51: 捨てコンクリート撤去 | H51: 2.3 | I51: ｍ3 | K51: =IF(I51="式",#REF!,(IF(J51="","",TRUNC(H51*J51))))
A52: =IF(ROW(B52)/2=INT(ROW(B52)/2),"",1) | B52: =ROUNDDOWN(((ROW(B52)-4)/36)+1,0) -> 2
A53: =IF(ROW(B53)/2=INT(ROW(B53)/2),"",1) -> 1 | B53: =ROUNDDOWN(((ROW(B53)-4)/36)+1,0) -> 2 | D53: 砕石撤去 | H53: 11 | I53: ｍ3 | K53: =IF(I53="式",#REF!,(IF(J53="","",TRUNC(H53*J53))))
A54: =IF(ROW(B54)/2=INT(ROW(B54)/2),"",1) | B54: =ROUNDDOWN(((ROW(B54)-4)/36)+1,0) -> 2
A55: =IF(ROW(B55)/2=INT(ROW(B55)/2),"",1) -> 1 | B55: =ROUNDDOWN(((ROW(B55)-4)/36)+1,0) -> 2 | D55: アルミ製建具撤去 | H55: 23 | I55: ｍ2 | K55: =IF(I55="式",#REF!,(IF(J55="","",TRUNC(H55*J55))))
A56: =IF(ROW(B56)/2=INT(ROW(B56)/2),"",1) | B56: =ROUNDDOWN(((ROW(B56)-4)/36)+1,0) -> 2
A57: =IF(ROW(B57)/2=INT(ROW(B57)/2),"",1) -> 1 | B57: =ROUNDDOWN(((ROW(B57)-4)/36)+1,0) -> 2 | D57: スチール製建具撤去 | H57: 13.6 | I57: ｍ2 | K57: =IF(I57="式",#REF!,(IF(J57="","",TRUNC(H57*J57))))
...

Sheet 細目別内訳（設備）
C2: 記号 | D2: 名 称 | F2: 摘 要 | H2: 数 量 | I2: 単位 | J2: 単 価 | K2: 金 額 | L2: 備 考
C5: -1 | D5: 電気設備
A6: =IF(ROW(B6)/2=INT(ROW(B6)/2),"",1) | B6: =ROUNDDOWN(((ROW(B6)-4)/36)+1,0) -> 1
A7: =IF(ROW(B7)/2=INT(ROW(B7)/2),"",1) -> 1 | B7: =ROUNDDOWN(((ROW(B7)-4)/36)+1,0) -> 1 | D7: ＜撤去＞ | K7: =IF(I7="式",#REF!,(IF(J7="","",TRUNC(H7*J7))))
A8: =IF(ROW(B8)/2=INT(ROW(B8)/2),"",1) | B8: =ROUNDDOWN(((ROW(B8)-4)/36)+1,0) -> 1
A9: =IF(ROW(B9)/2=INT(ROW(B9)/2),"",1) -> 1 | B9: =ROUNDDOWN(((ROW(B9)-4)/36)+1,0) -> 1 | D9: 照明器具撤去 | F9: Ａ | H9: 2 | I9: か所 | K9: =IF(I9="式",#REF!,(IF(J9="","",TRUNC(H9*J9))))
A10: =IF(ROW(B10)/2=INT(ROW(B10)/2),"",1) | B10: =ROUNDDOWN(((ROW(B10)-4)/36)+1,0) -> 1
A11: =IF(ROW(B11)/2=INT(ROW(B11)/2),"",1) -> 1 | B11: =ROUNDDOWN(((ROW(B11)-4)/36)+1,0) -> 1 | D11: 照明器具撤去 | F11: Ｂ | H11: 1 | I11: か所 | K11: =IF(I11="式",#REF!,(IF(J11="","",TRUNC(H11*J11))))
A12: =IF(ROW(B12)/2=INT(ROW(B12)/2),"",1) | B12: =ROUNDDOWN(((ROW(B12)-4)/36)+1,0) -> 1
A13: =IF(ROW(B13)/2=INT(ROW(B13)/2),"",1) -> 1 | B13: =ROUNDDOWN(((ROW(B13)-4)/36)+1,0) -> 1 | D13: 照明器具撤去 | F13: Ｃ | H13: 2 | I13: か所 | K13: =IF(I13="式",#REF!,(IF(J13="","",TRUNC(H13*J13))))
A14: =IF(ROW(B14)/2=INT(ROW(B14)/2),"",1) | B14: =ROUNDDOWN(((ROW(B14)-4)/36)+1,0) -> 1
A15: =IF(ROW(B15)/2=INT(ROW(B15)/2),"",1) -> 1 | B15: =ROUNDDOWN(((ROW(B15)-4)/36)+1,0) -> 1 | D15: 照明器具撤去 | F15: Ｄ | H15: 2 | I15: か所 | K15: =IF(I15="式",#REF!,(IF(J15="","",TRUNC(H15*J15))))
A16: =IF(ROW(B16)/2=INT(ROW(B16)/2),"",1) | B16: =ROUNDDOWN(((ROW(B16)-4)/36)+1,0) -> 1
A17: =IF(ROW(B17)/2=INT(ROW(B17)/2),"",1) -> 1 | B17: =ROUNDDOWN(((ROW(B17)-4)/36)+1,0) -> 1 | D17: 照明器具撤去 | F17: Ｅ | H17: 1 | I17: か所 | K17: =IF(I17="式",#REF!,(IF(J17="","",TRUNC(H17*J17))))
A18: =IF(ROW(B18)/2=INT(ROW(B18)/2),"",1) | B18: =ROUNDDOWN(((ROW(B18)-4)/36)+1,0) -> 1
A19: =IF(ROW(B19)/2=INT(ROW(B19)/2),"",1) -> 1 | B19: =ROUNDDOWN(((ROW(B19)-4)/36)+1,0) -> 1 | D19: 照明器具撤去 | F19: Ｆ | H19: 1 | I19: か所 | K19: =IF(I19="式",#REF!,(IF(J19="","",TRUNC(H19*J19))))
D21: 赤色灯撤去 | H21: 1 | I21: か所 | K21: =IF(I21="式",#REF!,(IF(J21="","",TRUNC(H21*J21))))
A22: =IF(ROW(B22)/2=INT(ROW(B22)/2),"",1) | B22: =ROUNDDOWN(((ROW(B22)-4)/36)+1,0) -> 1
A23: =IF(ROW(B23)/2=INT(ROW(B23)/2),"",1) -> 1 | B23: =ROUNDDOWN(((ROW(B23)-4)/36)+1,0) -> 1 | D23: 換気扇撤去 | F23: ウェザーカバー共 | H23: 2 | I23: か所 | K23: =IF(I23="式",#REF!,(IF(J23="","",TRUNC(H23*J23))))
A24: =IF(ROW(B24)/2=INT(ROW(B24)/2),"",1) | B24: =ROUNDDOWN(((ROW(B24)-4)/36)+1,0) -> 1
A25: =IF(ROW(B25)/2=INT(ROW(B25)/2),"",1) -> 1 | B25: =ROUNDDOWN(((ROW(B25)-4)/36)+1,0) -> 1 | D25: ウインドクーラー撤去 | H25: 1 | I25: か所 | K25: =IF(I25="式",#REF!,(IF(J25="","",TRUNC(H25*J25))))
A26: =IF(ROW(B26)/2=INT(ROW(B26)/2),"",1) | B26: =ROUNDDOWN(((ROW(B26)-4)/36)+1,0) -> 1
A27: =IF(ROW(B27)/2=INT(ROW(B27)/2),"",1) -> 1 | B27: =ROUNDDOWN(((ROW(B27)-4)/36)+1,0) -> 1 | D27: 警報盤撤去 | H27: 1 | I27: か所 | K27: =IF(I27="式",#REF!,(IF(J27="","",TRUNC(H27*J27))))
A28: =IF(ROW(B28)/2=INT(ROW(B28)/2),"",1) | B28: =ROUNDDOWN(((ROW(B28)-4)/36)+1,0) -> 1
A29: =IF(ROW(B29)/2=INT(ROW(B29)/2),"",1) -> 1 | B29: =ROUNDDOWN(((ROW(B29)-4)/36)+1,0) -> 1 | D29: メーターＢＯＸ撤去 | H29: 1 | I29: か所 | K29: =IF(I29="式",#REF!,(IF(J29="","",TRUNC(H29*J29))))
A30: =IF(ROW(B30)/2=INT(ROW(B30)/2),"",1) | B30: =ROUNDDOWN(((ROW(B30)-4)/36)+1,0) -> 1
A31: =IF(ROW(B31)/2=INT(ROW(B31)/2),"",1) -> 1 | B31: =ROUNDDOWN(((ROW(B31)-4)/36)+1,0) -> 1 | D31: 引込ＢＯＸ撤去 | H31: 1 | I31: か所 | K31: =IF(I31="式",#REF!,(IF(J31="","",TRUNC(H31*J31))))
A32: =IF(ROW(B32)/2=INT(ROW(B32)/2),"",1) | B32: =ROUNDDOWN(((ROW(B32)-4)/36)+1,0) -> 1
A33: =IF(ROW(B33)/2=INT(ROW(B33)/2),"",1) -> 1 | B33: =ROUNDDOWN(((ROW(B33)-4)/36)+1,0) -> 1 | D33: 配線等撤去 | H33: 1 | I33: 式
A34: =IF(ROW(B34)/2=INT(ROW(B34)/2),"",1) | B34: =ROUNDDOWN(((ROW(B34)-4)/36)+1,0) -> 1
A35: =IF(ROW(B35)/2=INT(ROW(B35)/2),"",1) -> 1 | B35: =ROUNDDOWN(((ROW(B35)-4)/36)+1,0) -> 1
A36: =IF(ROW(B36)/2=INT(ROW(B36)/2),"",1) | B36: =ROUNDDOWN(((ROW(B36)-4)/36)+1,0) -> 1
A37: =IF(ROW(B37)/2=INT(ROW(B37)/2),"",1) -> 1 | B37: =ROUNDDOWN(((ROW(B37)-4)/36)+1,0) -> 1 | D37: 撤去の計 | K37: =SUM(K8:K36) -> 0
A38: =IF(ROW(B38)/2=INT(ROW(B38)/2),"",1) | B38: =ROUNDDOWN(((ROW(B38)-4)/36)+1,0) -> 1
A39: =IF(ROW(B39)/2=INT(ROW(B39)/2),"",1) -> 1 | B39: =ROUNDDOWN(((ROW(B39)-4)/36)+1,0) -> 1 | K39: =IF(I39="式",#REF!,(IF(J39="","",TRUNC(H39*J39))))
A40: =IF(ROW(B40)/2=INT(ROW(B40)/2),"",1) | B40: =ROUNDDOWN(((ROW(B40)-4)/36)+1,0) -> 2
A41: =IF(ROW(B41)/2=INT(ROW(B41)/2),"",1) -> 1 | B41: =ROUNDDOWN(((ROW(B41)-4)/36)+1,0) -> 2 | D41: ＜発生材処理＞ | K41: =IF(I41="式",#REF!,(IF(J41="","",TRUNC(H41*J41))))
A42: =IF(ROW(B42)/2=INT(ROW(B42)/2),"",1) | B42: =ROUNDDOWN(((ROW(B42)-4)/36)+1,0) -> 2
A43: =IF(ROW(B43)/2=INT(ROW(B43)/2),"",1) -> 1 | B43: =ROUNDDOWN(((ROW(B43)-4)/36)+1,0) -> 2 | D43: 運搬 | H43: 1 | I43: 式
A44: =IF(ROW(B44)/2=INT(ROW(B44)/2),"",1) | B44: =ROUNDDOWN(((ROW(B44)-4)/36)+1,0) -> 2
...

Sheet 細目別内訳（外構）
C2: 記号 | D2: 名 称 | F2: 摘 要 | H2: 数 量 | I2: 単位 | J2: 単 価 | K2: 金 額 | L2: 備 考
A4: =IF(ROW(B4)/2=INT(ROW(B4)/2),"",1) | B4: =ROUNDDOWN(((ROW(B4)-4)/36)+1,0) -> 1
A5: =IF(ROW(B5)/2=INT(ROW(B5)/2),"",1) -> 1 | B5: =ROUNDDOWN(((ROW(B5)-4)/36)+1,0) -> 1 | C5: A-3 | D5: 撤去跡地整備
A6: =IF(ROW(B6)/2=INT(ROW(B6)/2),"",1) | B6: =ROUNDDOWN(((ROW(B6)-4)/36)+1,0) -> 1
A7: =IF(ROW(B7)/2=INT(ROW(B7)/2),"",1) -> 1 | B7: =ROUNDDOWN(((ROW(B7)-4)/36)+1,0) -> 1
A8: =IF(ROW(B8)/2=INT(ROW(B8)/2),"",1) | B8: =ROUNDDOWN(((ROW(B8)-4)/36)+1,0) -> 1
A9: =IF(ROW(B9)/2=INT(ROW(B9)/2),"",1) -> 1 | B9: =ROUNDDOWN(((ROW(B9)-4)/36)+1,0) -> 1 | D9: アスファルト舗装 | F9: 密粒ｱｽｺﾝｔ＝30、ｸﾗｯｼｬｰﾗﾝｔ＝100 | H9: 168 | I9: ｍ2 | K9: =IF(I9="式",#REF!,(IF(J9="","",TRUNC(H9*J9))))
A10: =IF(ROW(B10)/2=INT(ROW(B10)/2),"",1) | B10: =ROUNDDOWN(((ROW(B10)-4)/36)+1,0) -> 1
A11: =IF(ROW(B11)/2=INT(ROW(B11)/2),"",1) -> 1 | B11: =ROUNDDOWN(((ROW(B11)-4)/36)+1,0) -> 1 | K11: =IF(I11="式",#REF!,(IF(J11="","",TRUNC(H11*J11))))
A12: =IF(ROW(B12)/2=INT(ROW(B12)/2),"",1) | B12: =ROUNDDOWN(((ROW(B12)-4)/36)+1,0) -> 1
A13: =IF(ROW(B13)/2=INT(ROW(B13)/2),"",1) -> 1 | B13: =ROUNDDOWN(((ROW(B13)-4)/36)+1,0) -> 1 | K13: =IF(I13="式",#REF!,(IF(J13="","",TRUNC(H13*J13))))
A14: =IF(ROW(B14)/2=INT(ROW(B14)/2),"",1) | B14: =ROUNDDOWN(((ROW(B14)-4)/36)+1,0) -> 1
A15: =IF(ROW(B15)/2=INT(ROW(B15)/2),"",1) -> 1 | B15: =ROUNDDOWN(((ROW(B15)-4)/36)+1,0) -> 1
A16: =IF(ROW(B16)/2=INT(ROW(B16)/2),"",1) | B16: =ROUNDDOWN(((ROW(B16)-4)/36)+1,0) -> 1
A17: =IF(ROW(B17)/2=INT(ROW(B17)/2),"",1) -> 1 | B17: =ROUNDDOWN(((ROW(B17)-4)/36)+1,0) -> 1
A18: =IF(ROW(B18)/2=INT(ROW(B18)/2),"",1) | B18: =ROUNDDOWN(((ROW(B18)-4)/36)+1,0) -> 1
A19: =IF(ROW(B19)/2=INT(ROW(B19)/2),"",1) -> 1 | B19: =ROUNDDOWN(((ROW(B19)-4)/36)+1,0) -> 1 | K19: =IF(I19="式",#REF!,(IF(J19="","",TRUNC(H19*J19))))
A20: =IF(ROW(B20)/2=INT(ROW(B20)/2),"",1) | B20: =ROUNDDOWN(((ROW(B20)-4)/36)+1,0) -> 1
A21: =IF(ROW(B21)/2=INT(ROW(B21)/2),"",1) -> 1 | B21: =ROUNDDOWN(((ROW(B21)-4)/36)+1,0) -> 1 | K21: =IF(I21="式",#REF!,(IF(J21="","",TRUNC(H21*J21))))
A22: =IF(ROW(B22)/2=INT(ROW(B22)/2),"",1) | B22: =ROUNDDOWN(((ROW(B22)-4)/36)+1,0) -> 1
A23: =IF(ROW(B23)/2=INT(ROW(B23)/2),"",1) -> 1 | B23: =ROUNDDOWN(((ROW(B23)-4)/36)+1,0) -> 1 | K23: =IF(I23="式",#REF!,(IF(J23="","",TRUNC(H23*J23))))
A24: =IF(ROW(B24)/2=INT(ROW(B24)/2),"",1) | B24: =ROUNDDOWN(((ROW(B24)-4)/36)+1,0) -> 1
A25: =IF(ROW(B25)/2=INT(ROW(B25)/2),"",1) -> 1 | B25: =ROUNDDOWN(((ROW(B25)-4)/36)+1,0) -> 1 | K25: =IF(I25="式",#REF!,(IF(J25="","",TRUNC(H25*J25))))
A26: =IF(ROW(B26)/2=INT(ROW(B26)/2),"",1) | B26: =ROUNDDOWN(((ROW(B26)-4)/36)+1,0) -> 1
A27: =IF(ROW(B27)/2=INT(ROW(B27)/2),"",1) -> 1 | B27: =ROUNDDOWN(((ROW(B27)-4)/36)+1,0) -> 1 | K27: =IF(I27="式",#REF!,(IF(J27="","",TRUNC(H27*J27))))
A28: =IF(ROW(B28)/2=INT(ROW(B28)/2),"",1) | B28: =ROUNDDOWN(((ROW(B28)-4)/36)+1,0) -> 1
A29: =IF(ROW(B29)/2=INT(ROW(B29)/2),"",1) -> 1 | B29: =ROUNDDOWN(((ROW(B29)-4)/36)+1,0) -> 1 | K29: =IF(I29="式",#REF!,(IF(J29="","",TRUNC(H29*J29))))
A30: =IF(ROW(B30)/2=INT(ROW(B30)/2),"",1) | B30: =ROUNDDOWN(((ROW(B30)-4)/36)+1,0) -> 1
A31: =IF(ROW(B31)/2=INT(ROW(B31)/2),"",1) -> 1 | B31: =ROUNDDOWN(((ROW(B31)-4)/36)+1,0) -> 1 | K31: =IF(I31="式",#REF!,(IF(J31="","",TRUNC(H31*J31))))
A32: =IF(ROW(B32)/2=INT(ROW(B32)/2),"",1) | B32: =ROUNDDOWN(((ROW(B32)-4)/36)+1,0) -> 1
A33: =IF(ROW(B33)/2=INT(ROW(B33)/2),"",1) -> 1 | B33: =ROUNDDOWN(((ROW(B33)-4)/36)+1,0) -> 1 | K33: =IF(I33="式",#REF!,(IF(J33="","",TRUNC(H33*J33))))
A34: =IF(ROW(B34)/2=INT(ROW(B34)/2),"",1) | B34: =ROUNDDOWN(((ROW(B34)-4)/36)+1,0) -> 1
A35: =IF(ROW(B35)/2=INT(ROW(B35)/2),"",1) -> 1 | B35: =ROUNDDOWN(((ROW(B35)-4)/36)+1,0) -> 1 | K35: =IF(I35="式",#REF!,(IF(J35="","",TRUNC(H35*J35))))
A36: =IF(ROW(B36)/2=INT(ROW(B36)/2),"",1) | B36: =ROUNDDOWN(((ROW(B36)-4)/36)+1,0) -> 1
A37: =IF(ROW(B37)/2=INT(ROW(B37)/2),"",1) -> 1 | B37: =ROUNDDOWN(((ROW(B37)-4)/36)+1,0) -> 1 | D37: 計 | K37: =SUM(K8:K36) -> 0
A38: =IF(ROW(B38)/2=INT(ROW(B38)/2),"",1) | B38: =ROUNDDOWN(((ROW(B38)-4)/36)+1,0) -> 1
A39: =IF(ROW(B39)/2=INT(ROW(B39)/2),"",1) -> 1 | B39: =ROUNDDOWN(((ROW(B39)-4)/36)+1,0) -> 1 | K39: =IF(I39="式",#REF!,(IF(J39="","",TRUNC(H39*J39))))
A40: =IF(ROW(B40)/2=INT(ROW(B40)/2),"",1) | B40: =ROUNDDOWN(((ROW(B40)-4)/36)+1,0) -> 2
A41: =IF(ROW(B41)/2=INT(ROW(B41)/2),"",1) -> 1 | B41: =ROUNDDOWN(((ROW(B41)-4)/36)+1,0) -> 2
